BEGIN:VCALENDAR
VERSION:2.0
PRODID:-//Steve Johnson Music - ECPv6.15.20//NONSGML v1.0//EN
CALSCALE:GREGORIAN
METHOD:PUBLISH
X-ORIGINAL-URL:https://stevejohnsonmusic.com
X-WR-CALDESC:Events for Steve Johnson Music
REFRESH-INTERVAL;VALUE=DURATION:PT1H
X-Robots-Tag:noindex
X-PUBLISHED-TTL:PT1H
BEGIN:VTIMEZONE
TZID:America/Denver
BEGIN:DAYLIGHT
TZOFFSETFROM:-0700
TZOFFSETTO:-0600
TZNAME:MDT
DTSTART:20230312T090000
END:DAYLIGHT
BEGIN:STANDARD
TZOFFSETFROM:-0600
TZOFFSETTO:-0700
TZNAME:MST
DTSTART:20231105T080000
END:STANDARD
BEGIN:DAYLIGHT
TZOFFSETFROM:-0700
TZOFFSETTO:-0600
TZNAME:MDT
DTSTART:20240310T090000
END:DAYLIGHT
BEGIN:STANDARD
TZOFFSETFROM:-0600
TZOFFSETTO:-0700
TZNAME:MST
DTSTART:20241103T080000
END:STANDARD
BEGIN:DAYLIGHT
TZOFFSETFROM:-0700
TZOFFSETTO:-0600
TZNAME:MDT
DTSTART:20250309T090000
END:DAYLIGHT
BEGIN:STANDARD
TZOFFSETFROM:-0600
TZOFFSETTO:-0700
TZNAME:MST
DTSTART:20251102T080000
END:STANDARD
END:VTIMEZONE
BEGIN:VEVENT
DTSTART;TZID=America/Denver:20240818T140000
DTEND;TZID=America/Denver:20240818T160000
DTSTAMP:20260423T224900
CREATED:20240815T152415Z
LAST-MODIFIED:20240815T152415Z
UID:10001160-1723989600-1723996800@stevejohnsonmusic.com
SUMMARY:Steve Johnson @ Sweet Heart Winery
DESCRIPTION:
URL:https://stevejohnsonmusic.com/event/steve-johnson-sweet-heart-winery/
LOCATION:Sweet Heart Winery\, 5500 West Highway 34\, Loveland\, 80537\, United States
CATEGORIES:solo
END:VEVENT
END:VCALENDAR