BEGIN:VCALENDAR
VERSION:2.0
PRODID:-//Steve Johnson Music - ECPv6.15.20//NONSGML v1.0//EN
CALSCALE:GREGORIAN
METHOD:PUBLISH
X-ORIGINAL-URL:https://stevejohnsonmusic.com
X-WR-CALDESC:Events for Steve Johnson Music
REFRESH-INTERVAL;VALUE=DURATION:PT1H
X-Robots-Tag:noindex
X-PUBLISHED-TTL:PT1H
BEGIN:VTIMEZONE
TZID:America/Denver
BEGIN:DAYLIGHT
TZOFFSETFROM:-0700
TZOFFSETTO:-0600
TZNAME:MDT
DTSTART:20240310T090000
END:DAYLIGHT
BEGIN:STANDARD
TZOFFSETFROM:-0600
TZOFFSETTO:-0700
TZNAME:MST
DTSTART:20241103T080000
END:STANDARD
BEGIN:DAYLIGHT
TZOFFSETFROM:-0700
TZOFFSETTO:-0600
TZNAME:MDT
DTSTART:20250309T090000
END:DAYLIGHT
BEGIN:STANDARD
TZOFFSETFROM:-0600
TZOFFSETTO:-0700
TZNAME:MST
DTSTART:20251102T080000
END:STANDARD
BEGIN:DAYLIGHT
TZOFFSETFROM:-0700
TZOFFSETTO:-0600
TZNAME:MDT
DTSTART:20260308T090000
END:DAYLIGHT
BEGIN:STANDARD
TZOFFSETFROM:-0600
TZOFFSETTO:-0700
TZNAME:MST
DTSTART:20261101T080000
END:STANDARD
END:VTIMEZONE
BEGIN:VEVENT
DTSTART;TZID=America/Denver:20251001T190000
DTEND;TZID=America/Denver:20251001T213000
DTSTAMP:20260425T211346
CREATED:20250327T230053Z
LAST-MODIFIED:20250327T230053Z
UID:10001185-1759345200-1759354200@stevejohnsonmusic.com
SUMMARY:Island Grill Jazz Jam
DESCRIPTION:Jazz Jam night at Island Grill! We read tunes from Real Books 1-3 and generally have a great time. Bring your horn and join us!
URL:https://stevejohnsonmusic.com/event/island-grill-jazz-jam-9/2025-10-01/
LOCATION:Island Grill\, 2601 S Lemay Ave #12\, Fort Collins\, CO\, 80525\, United States
CATEGORIES:group,jazz
ATTACH;FMTTYPE=image/jpeg:https://stevejohnsonmusic.com/wp-content/uploads/2025/03/Island-Grill-Jazz-Jam-bi-weekly-landscape.jpg
GEO:40.5515594;-105.0597445
X-APPLE-STRUCTURED-LOCATION;VALUE=URI;X-ADDRESS=Island Grill 2601 S Lemay Ave #12 Fort Collins CO 80525 United States;X-APPLE-RADIUS=500;X-TITLE=2601 S Lemay Ave #12:geo:-105.0597445,40.5515594
END:VEVENT
BEGIN:VEVENT
DTSTART;TZID=America/Denver:20251012T170000
DTEND;TZID=America/Denver:20251012T200000
DTSTAMP:20260425T211346
CREATED:20250805T204530Z
LAST-MODIFIED:20251007T151856Z
UID:10001221-1760288400-1760299200@stevejohnsonmusic.com
SUMMARY:Asteria Jazz @ Bricks on Main
DESCRIPTION:
URL:https://stevejohnsonmusic.com/event/asteria-jazz-bricks-on-main-5/
LOCATION:Bricks on Main\, 471 Main St\, Longmont\, 80501\, United States
CATEGORIES:group,jazz
END:VEVENT
BEGIN:VEVENT
DTSTART;TZID=America/Denver:20251015T190000
DTEND;TZID=America/Denver:20251015T213000
DTSTAMP:20260425T211346
CREATED:20250327T230435Z
LAST-MODIFIED:20250327T230435Z
UID:10001195-1760554800-1760563800@stevejohnsonmusic.com
SUMMARY:Island Grill Jazz Jam
DESCRIPTION:Jazz Jam night at Island Grill! We read tunes from Real Books 1-3 and generally have a great time. Bring your horn and join us!
URL:https://stevejohnsonmusic.com/event/island-grill-jazz-jam-10/2025-10-15/
LOCATION:Island Grill\, 2601 S Lemay Ave #12\, Fort Collins\, CO\, 80525\, United States
CATEGORIES:group,jazz
GEO:40.5515594;-105.0597445
X-APPLE-STRUCTURED-LOCATION;VALUE=URI;X-ADDRESS=Island Grill 2601 S Lemay Ave #12 Fort Collins CO 80525 United States;X-APPLE-RADIUS=500;X-TITLE=2601 S Lemay Ave #12:geo:-105.0597445,40.5515594
END:VEVENT
BEGIN:VEVENT
DTSTART;TZID=America/Denver:20251026T150000
DTEND;TZID=America/Denver:20251026T170000
DTSTAMP:20260425T211346
CREATED:20250905T170349Z
LAST-MODIFIED:20250907T192027Z
UID:10001223-1761490800-1761498000@stevejohnsonmusic.com
SUMMARY:Asteria Jazz @ The Neighbor
DESCRIPTION:
URL:https://stevejohnsonmusic.com/event/asteria-jazz-the-neighbor/
LOCATION:The Neighbor\, 144 S Mason Street\, Fort Collins\, 80524\, United States
CATEGORIES:group,jazz
END:VEVENT
END:VCALENDAR