BEGIN:VCALENDAR
VERSION:2.0
PRODID:-//Steve Johnson Music - ECPv6.15.20//NONSGML v1.0//EN
CALSCALE:GREGORIAN
METHOD:PUBLISH
X-ORIGINAL-URL:https://stevejohnsonmusic.com
X-WR-CALDESC:Events for Steve Johnson Music
REFRESH-INTERVAL;VALUE=DURATION:PT1H
X-Robots-Tag:noindex
X-PUBLISHED-TTL:PT1H
BEGIN:VTIMEZONE
TZID:America/Denver
BEGIN:DAYLIGHT
TZOFFSETFROM:-0700
TZOFFSETTO:-0600
TZNAME:MDT
DTSTART:20210314T090000
END:DAYLIGHT
BEGIN:STANDARD
TZOFFSETFROM:-0600
TZOFFSETTO:-0700
TZNAME:MST
DTSTART:20211107T080000
END:STANDARD
BEGIN:DAYLIGHT
TZOFFSETFROM:-0700
TZOFFSETTO:-0600
TZNAME:MDT
DTSTART:20220313T090000
END:DAYLIGHT
BEGIN:STANDARD
TZOFFSETFROM:-0600
TZOFFSETTO:-0700
TZNAME:MST
DTSTART:20221106T080000
END:STANDARD
BEGIN:DAYLIGHT
TZOFFSETFROM:-0700
TZOFFSETTO:-0600
TZNAME:MDT
DTSTART:20230312T090000
END:DAYLIGHT
BEGIN:STANDARD
TZOFFSETFROM:-0600
TZOFFSETTO:-0700
TZNAME:MST
DTSTART:20231105T080000
END:STANDARD
END:VTIMEZONE
BEGIN:VEVENT
DTSTART;TZID=America/Denver:20220204T193000
DTEND;TZID=America/Denver:20220204T223000
DTSTAMP:20260419T175528
CREATED:20220719T220427Z
LAST-MODIFIED:20220906T201904Z
UID:10000180-1644003000-1644013800@stevejohnsonmusic.com
SUMMARY:Steve Johnson @ West End Lounge
DESCRIPTION:
URL:https://stevejohnsonmusic.com/event/steve-johnson-west-end-lounge-32/
LOCATION:West End Lounge\, 127 W 4th St\, Loveland\, CO\, 80537\, United States
CATEGORIES:solo
GEO:40.3957193;-105.0773188
X-APPLE-STRUCTURED-LOCATION;VALUE=URI;X-ADDRESS=West End Lounge 127 W 4th St Loveland CO 80537 United States;X-APPLE-RADIUS=500;X-TITLE=127 W 4th St:geo:-105.0773188,40.3957193
END:VEVENT
BEGIN:VEVENT
DTSTART;TZID=America/Denver:20220214T180000
DTEND;TZID=America/Denver:20220214T180000
DTSTAMP:20260419T175528
CREATED:20220719T204003Z
LAST-MODIFIED:20220906T201953Z
UID:10000090-1644861600-1644861600@stevejohnsonmusic.com
SUMMARY:Steve Johnson @ Terry Bison Ranch
DESCRIPTION:Valentine’s Day Prime Rib Buffet!
URL:https://stevejohnsonmusic.com/event/steve-johnson-terry-bison-ranch/
LOCATION:Terry Bison Ranch\, 51 I-25 Frontage Rd\, Cheyenne\, WY\, 82007\, United States
CATEGORIES:solo
GEO:41.004166;-104.9012319
X-APPLE-STRUCTURED-LOCATION;VALUE=URI;X-ADDRESS=Terry Bison Ranch 51 I-25 Frontage Rd Cheyenne WY 82007 United States;X-APPLE-RADIUS=500;X-TITLE=51 I-25 Frontage Rd:geo:-104.9012319,41.004166
END:VEVENT
BEGIN:VEVENT
DTSTART;TZID=America/Denver:20220218T193000
DTEND;TZID=America/Denver:20220218T193000
DTSTAMP:20260419T175528
CREATED:20220719T204004Z
LAST-MODIFIED:20220906T202235Z
UID:10000095-1645212600-1645212600@stevejohnsonmusic.com
SUMMARY:Steve Johnson @ West End Lounge
DESCRIPTION:
URL:https://stevejohnsonmusic.com/event/steve-johnson-west-end-lounge-6/
LOCATION:West End Lounge\, 127 W 4th St\, Loveland\, CO\, 80537\, United States
CATEGORIES:solo
GEO:40.3957193;-105.0773188
X-APPLE-STRUCTURED-LOCATION;VALUE=URI;X-ADDRESS=West End Lounge 127 W 4th St Loveland CO 80537 United States;X-APPLE-RADIUS=500;X-TITLE=127 W 4th St:geo:-105.0773188,40.3957193
END:VEVENT
BEGIN:VEVENT
DTSTART;TZID=America/Denver:20220226T200000
DTEND;TZID=America/Denver:20220226T200000
DTSTAMP:20260419T175528
CREATED:20220719T204004Z
LAST-MODIFIED:20220906T202255Z
UID:10000012-1645905600-1645905600@stevejohnsonmusic.com
SUMMARY:Custom Shop Band @ Island Grill
DESCRIPTION:
URL:https://stevejohnsonmusic.com/event/custom-shop-band-island-grill/
LOCATION:Island Grill\, 2601 S Lemay Ave #12\, Fort Collins\, CO\, 80525\, United States
CATEGORIES:group
GEO:40.5515594;-105.0597445
X-APPLE-STRUCTURED-LOCATION;VALUE=URI;X-ADDRESS=Island Grill 2601 S Lemay Ave #12 Fort Collins CO 80525 United States;X-APPLE-RADIUS=500;X-TITLE=2601 S Lemay Ave #12:geo:-105.0597445,40.5515594
END:VEVENT
END:VCALENDAR