BEGIN:VCALENDAR
VERSION:2.0
PRODID:-//Steve Johnson Music - ECPv6.15.20//NONSGML v1.0//EN
CALSCALE:GREGORIAN
METHOD:PUBLISH
X-WR-CALNAME:Steve Johnson Music
X-ORIGINAL-URL:https://stevejohnsonmusic.com
X-WR-CALDESC:Events for Steve Johnson Music
REFRESH-INTERVAL;VALUE=DURATION:PT1H
X-Robots-Tag:noindex
X-PUBLISHED-TTL:PT1H
BEGIN:VTIMEZONE
TZID:America/Denver
BEGIN:DAYLIGHT
TZOFFSETFROM:-0700
TZOFFSETTO:-0600
TZNAME:MDT
DTSTART:20210314T090000
END:DAYLIGHT
BEGIN:STANDARD
TZOFFSETFROM:-0600
TZOFFSETTO:-0700
TZNAME:MST
DTSTART:20211107T080000
END:STANDARD
BEGIN:DAYLIGHT
TZOFFSETFROM:-0700
TZOFFSETTO:-0600
TZNAME:MDT
DTSTART:20220313T090000
END:DAYLIGHT
BEGIN:STANDARD
TZOFFSETFROM:-0600
TZOFFSETTO:-0700
TZNAME:MST
DTSTART:20221106T080000
END:STANDARD
BEGIN:DAYLIGHT
TZOFFSETFROM:-0700
TZOFFSETTO:-0600
TZNAME:MDT
DTSTART:20230312T090000
END:DAYLIGHT
BEGIN:STANDARD
TZOFFSETFROM:-0600
TZOFFSETTO:-0700
TZNAME:MST
DTSTART:20231105T080000
END:STANDARD
END:VTIMEZONE
BEGIN:VEVENT
DTSTART;TZID=America/Denver:20220401T193000
DTEND;TZID=America/Denver:20220401T193000
DTSTAMP:20260419T210619
CREATED:20220719T204013Z
LAST-MODIFIED:20220906T202737Z
UID:10000017-1648841400-1648841400@stevejohnsonmusic.com
SUMMARY:Steve Johnson @ West End Lounge
DESCRIPTION:
URL:https://stevejohnsonmusic.com/event/steve-johnson-west-end-lounge-9/
LOCATION:West End Lounge\, 127 W 4th St\, Loveland\, CO\, 80537\, United States
CATEGORIES:solo
GEO:40.3957193;-105.0773188
X-APPLE-STRUCTURED-LOCATION;VALUE=URI;X-ADDRESS=West End Lounge 127 W 4th St Loveland CO 80537 United States;X-APPLE-RADIUS=500;X-TITLE=127 W 4th St:geo:-105.0773188,40.3957193
END:VEVENT
BEGIN:VEVENT
DTSTART;TZID=America/Denver:20220402T000000
DTEND;TZID=America/Denver:20220409T000000
DTSTAMP:20260419T210619
CREATED:20220719T204013Z
LAST-MODIFIED:20220719T205748Z
UID:10000094-1648857600-1649462400@stevejohnsonmusic.com
SUMMARY:(Unavailable)
DESCRIPTION:
URL:https://stevejohnsonmusic.com/event/unavailable-out-of-country/
LOCATION:(Unavailable)\, United States
END:VEVENT
BEGIN:VEVENT
DTSTART;TZID=America/Denver:20220415T193000
DTEND;TZID=America/Denver:20220415T193000
DTSTAMP:20260419T210620
CREATED:20220719T204027Z
LAST-MODIFIED:20220906T202804Z
UID:10000018-1650051000-1650051000@stevejohnsonmusic.com
SUMMARY:Steve Johnson @ West End Lounge
DESCRIPTION:
URL:https://stevejohnsonmusic.com/event/steve-johnson-west-end-lounge-10/
LOCATION:West End Lounge\, 127 W 4th St\, Loveland\, CO\, 80537\, United States
CATEGORIES:solo
GEO:40.3957193;-105.0773188
X-APPLE-STRUCTURED-LOCATION;VALUE=URI;X-ADDRESS=West End Lounge 127 W 4th St Loveland CO 80537 United States;X-APPLE-RADIUS=500;X-TITLE=127 W 4th St:geo:-105.0773188,40.3957193
END:VEVENT
BEGIN:VEVENT
DTSTART;TZID=America/Denver:20220417T110000
DTEND;TZID=America/Denver:20220417T110000
DTSTAMP:20260419T210620
CREATED:20220719T204027Z
LAST-MODIFIED:20220906T202841Z
UID:10000124-1650193200-1650193200@stevejohnsonmusic.com
SUMMARY:Steve Johnson @ Terry Bison Ranch
DESCRIPTION:Easter Sunday brunch
URL:https://stevejohnsonmusic.com/event/steve-johnson-terry-bison-ranch-2/
LOCATION:Terry Bison Ranch\, 51 I-25 Frontage Rd\, Cheyenne\, WY\, 82007\, United States
CATEGORIES:solo
GEO:41.004166;-104.9012319
X-APPLE-STRUCTURED-LOCATION;VALUE=URI;X-ADDRESS=Terry Bison Ranch 51 I-25 Frontage Rd Cheyenne WY 82007 United States;X-APPLE-RADIUS=500;X-TITLE=51 I-25 Frontage Rd:geo:-104.9012319,41.004166
END:VEVENT
BEGIN:VEVENT
DTSTART;TZID=America/Denver:20220420T190000
DTEND;TZID=America/Denver:20220420T213000
DTSTAMP:20260419T210620
CREATED:20220427T115158Z
LAST-MODIFIED:20220818T175548Z
UID:10000027-1650481200-1650490200@stevejohnsonmusic.com
SUMMARY:Island Grill Jazz Jam
DESCRIPTION:
URL:https://stevejohnsonmusic.com/event/island-grill-jazz-jam-17/2022-04-20/
LOCATION:Island Grill\, 2601 S Lemay Ave #12\, Fort Collins\, CO\, 80525\, United States
CATEGORIES:jazz
ATTACH;FMTTYPE=image/jpeg:https://stevejohnsonmusic.com/wp-content/uploads/2022/04/Island-Grill-Jazz-Jam-FB-Event-new.jpg
GEO:40.5515594;-105.0597445
X-APPLE-STRUCTURED-LOCATION;VALUE=URI;X-ADDRESS=Island Grill 2601 S Lemay Ave #12 Fort Collins CO 80525 United States;X-APPLE-RADIUS=500;X-TITLE=2601 S Lemay Ave #12:geo:-105.0597445,40.5515594
END:VEVENT
BEGIN:VEVENT
DTSTART;TZID=America/Denver:20220420T190000
DTEND;TZID=America/Denver:20220420T213000
DTSTAMP:20260419T210620
CREATED:20230609T220739Z
LAST-MODIFIED:20230609T220740Z
UID:10000040-1650481200-1650490200@stevejohnsonmusic.com
SUMMARY:Island Grill Jazz Jam
DESCRIPTION:
URL:https://stevejohnsonmusic.com/event/island-grill-jazz-jam-17-5/2022-04-20/
LOCATION:Island Grill\, 2601 S Lemay Ave #12\, Fort Collins\, CO\, 80525\, United States
CATEGORIES:jazz
ATTACH;FMTTYPE=image/jpeg:https://stevejohnsonmusic.com/wp-content/uploads/2022/04/Island-Grill-Jazz-Jam-FB-Event-new.jpg
GEO:40.5515594;-105.0597445
X-APPLE-STRUCTURED-LOCATION;VALUE=URI;X-ADDRESS=Island Grill 2601 S Lemay Ave #12 Fort Collins CO 80525 United States;X-APPLE-RADIUS=500;X-TITLE=2601 S Lemay Ave #12:geo:-105.0597445,40.5515594
END:VEVENT
BEGIN:VEVENT
DTSTART;TZID=America/Denver:20220422T190000
DTEND;TZID=America/Denver:20220422T190000
DTSTAMP:20260419T210620
CREATED:20220719T204027Z
LAST-MODIFIED:20220906T202905Z
UID:10000123-1650654000-1650654000@stevejohnsonmusic.com
SUMMARY:Steve Johnson @ Mex O'Malley's
DESCRIPTION:
URL:https://stevejohnsonmusic.com/event/steve-johnson-mex-omalleys-2/
LOCATION:Mex O’Malley’s\, 548 N Lincoln Ave\, Loveland\, CO\, 80537\, United States
CATEGORIES:solo
ATTACH;FMTTYPE=image/jpeg:https://stevejohnsonmusic.com/wp-content/uploads/2022/07/mexomalleys-FB-event-image-20220422.jpg
GEO:40.3969325;-105.0730089
X-APPLE-STRUCTURED-LOCATION;VALUE=URI;X-ADDRESS=Mex O’Malley’s 548 N Lincoln Ave Loveland CO 80537 United States;X-APPLE-RADIUS=500;X-TITLE=548 N Lincoln Ave:geo:-105.0730089,40.3969325
END:VEVENT
BEGIN:VEVENT
DTSTART;TZID=America/Denver:20220429T193000
DTEND;TZID=America/Denver:20220429T193000
DTSTAMP:20260419T210620
CREATED:20220719T204028Z
LAST-MODIFIED:20220906T202927Z
UID:10000122-1651260600-1651260600@stevejohnsonmusic.com
SUMMARY:Steve Johnson @ West End Lounge
DESCRIPTION:
URL:https://stevejohnsonmusic.com/event/steve-johnson-west-end-lounge-11/
LOCATION:West End Lounge\, 127 W 4th St\, Loveland\, CO\, 80537\, United States
CATEGORIES:solo
GEO:40.3957193;-105.0773188
X-APPLE-STRUCTURED-LOCATION;VALUE=URI;X-ADDRESS=West End Lounge 127 W 4th St Loveland CO 80537 United States;X-APPLE-RADIUS=500;X-TITLE=127 W 4th St:geo:-105.0773188,40.3957193
END:VEVENT
END:VCALENDAR