BEGIN:VCALENDAR
VERSION:2.0
PRODID:-//Steve Johnson Music - ECPv6.15.20//NONSGML v1.0//EN
CALSCALE:GREGORIAN
METHOD:PUBLISH
X-ORIGINAL-URL:https://stevejohnsonmusic.com
X-WR-CALDESC:Events for Steve Johnson Music
REFRESH-INTERVAL;VALUE=DURATION:PT1H
X-Robots-Tag:noindex
X-PUBLISHED-TTL:PT1H
BEGIN:VTIMEZONE
TZID:America/Denver
BEGIN:DAYLIGHT
TZOFFSETFROM:-0700
TZOFFSETTO:-0600
TZNAME:MDT
DTSTART:20210314T090000
END:DAYLIGHT
BEGIN:STANDARD
TZOFFSETFROM:-0600
TZOFFSETTO:-0700
TZNAME:MST
DTSTART:20211107T080000
END:STANDARD
BEGIN:DAYLIGHT
TZOFFSETFROM:-0700
TZOFFSETTO:-0600
TZNAME:MDT
DTSTART:20220313T090000
END:DAYLIGHT
BEGIN:STANDARD
TZOFFSETFROM:-0600
TZOFFSETTO:-0700
TZNAME:MST
DTSTART:20221106T080000
END:STANDARD
BEGIN:DAYLIGHT
TZOFFSETFROM:-0700
TZOFFSETTO:-0600
TZNAME:MDT
DTSTART:20230312T090000
END:DAYLIGHT
BEGIN:STANDARD
TZOFFSETFROM:-0600
TZOFFSETTO:-0700
TZNAME:MST
DTSTART:20231105T080000
END:STANDARD
END:VTIMEZONE
BEGIN:VEVENT
DTSTART;TZID=America/Denver:20220504T190000
DTEND;TZID=America/Denver:20220504T213000
DTSTAMP:20260419T225326
CREATED:20220906T185304Z
LAST-MODIFIED:20230725T170030Z
UID:10000056-1651690800-1651699800@stevejohnsonmusic.com
SUMMARY:x-Island Grill Jazz Jam
DESCRIPTION:
URL:https://stevejohnsonmusic.com/event/island-grill-jazz-jam-17-2/2022-05-04/
LOCATION:Island Grill\, 2601 S Lemay Ave #12\, Fort Collins\, CO\, 80525\, United States
CATEGORIES:jazz
ATTACH;FMTTYPE=image/jpeg:https://stevejohnsonmusic.com/wp-content/uploads/2022/04/Island-Grill-Jazz-Jam-FB-Event-new.jpg
GEO:40.5515594;-105.0597445
X-APPLE-STRUCTURED-LOCATION;VALUE=URI;X-ADDRESS=Island Grill 2601 S Lemay Ave #12 Fort Collins CO 80525 United States;X-APPLE-RADIUS=500;X-TITLE=2601 S Lemay Ave #12:geo:-105.0597445,40.5515594
END:VEVENT
BEGIN:VEVENT
DTSTART;TZID=America/Denver:20220504T190000
DTEND;TZID=America/Denver:20220504T213000
DTSTAMP:20260419T225326
CREATED:20230323T145315Z
LAST-MODIFIED:20230323T145315Z
UID:10000373-1651690800-1651699800@stevejohnsonmusic.com
SUMMARY:Island Grill Jazz Jam
DESCRIPTION:
URL:https://stevejohnsonmusic.com/event/island-grill-jazz-jam/
LOCATION:Island Grill\, 2601 S Lemay Ave #12\, Fort Collins\, CO\, 80525\, United States
CATEGORIES:jazz
ATTACH;FMTTYPE=image/jpeg:https://stevejohnsonmusic.com/wp-content/uploads/2022/04/Island-Grill-Jazz-Jam-FB-Event-new.jpg
GEO:40.5515594;-105.0597445
X-APPLE-STRUCTURED-LOCATION;VALUE=URI;X-ADDRESS=Island Grill 2601 S Lemay Ave #12 Fort Collins CO 80525 United States;X-APPLE-RADIUS=500;X-TITLE=2601 S Lemay Ave #12:geo:-105.0597445,40.5515594
END:VEVENT
BEGIN:VEVENT
DTSTART;TZID=America/Denver:20220504T190000
DTEND;TZID=America/Denver:20220504T213000
DTSTAMP:20260419T225326
CREATED:20230609T220647Z
LAST-MODIFIED:20230609T220648Z
UID:10000068-1651690800-1651699800@stevejohnsonmusic.com
SUMMARY:Island Grill Jazz Jam
DESCRIPTION:
URL:https://stevejohnsonmusic.com/event/island-grill-jazz-jam-17-2-2/2022-05-04/
LOCATION:Island Grill\, 2601 S Lemay Ave #12\, Fort Collins\, CO\, 80525\, United States
CATEGORIES:jazz
ATTACH;FMTTYPE=image/jpeg:https://stevejohnsonmusic.com/wp-content/uploads/2022/04/Island-Grill-Jazz-Jam-FB-Event-new.jpg
GEO:40.5515594;-105.0597445
X-APPLE-STRUCTURED-LOCATION;VALUE=URI;X-ADDRESS=Island Grill 2601 S Lemay Ave #12 Fort Collins CO 80525 United States;X-APPLE-RADIUS=500;X-TITLE=2601 S Lemay Ave #12:geo:-105.0597445,40.5515594
END:VEVENT
BEGIN:VEVENT
DTSTART;TZID=America/Denver:20220506T190000
DTEND;TZID=America/Denver:20220506T190000
DTSTAMP:20260419T225326
CREATED:20220719T204028Z
LAST-MODIFIED:20220906T203224Z
UID:10000121-1651863600-1651863600@stevejohnsonmusic.com
SUMMARY:Custom Shop Band @ Spirits Music Hall
DESCRIPTION:
URL:https://stevejohnsonmusic.com/event/custom-shop-band-spirits-music-hall/
LOCATION:CO
CATEGORIES:group
END:VEVENT
BEGIN:VEVENT
DTSTART;TZID=America/Denver:20220508T110000
DTEND;TZID=America/Denver:20220508T110000
DTSTAMP:20260419T225326
CREATED:20220719T204042Z
LAST-MODIFIED:20220906T203505Z
UID:10000120-1652007600-1652007600@stevejohnsonmusic.com
SUMMARY:Steve Johnson @ Terry Bison Ranch
DESCRIPTION:Mothers Day brunch
URL:https://stevejohnsonmusic.com/event/steve-johnson-terry-bison-ranch-3/
LOCATION:Terry Bison Ranch\, 51 I-25 Frontage Rd\, Cheyenne\, WY\, 82007\, United States
CATEGORIES:solo
GEO:41.004166;-104.9012319
X-APPLE-STRUCTURED-LOCATION;VALUE=URI;X-ADDRESS=Terry Bison Ranch 51 I-25 Frontage Rd Cheyenne WY 82007 United States;X-APPLE-RADIUS=500;X-TITLE=51 I-25 Frontage Rd:geo:-104.9012319,41.004166
END:VEVENT
BEGIN:VEVENT
DTSTART;TZID=America/Denver:20220514T193000
DTEND;TZID=America/Denver:20220514T223000
DTSTAMP:20260419T225326
CREATED:20220719T204042Z
LAST-MODIFIED:20220906T203556Z
UID:10000115-1652556600-1652567400@stevejohnsonmusic.com
SUMMARY:Elmer Funk @ Avogadro's Number
DESCRIPTION:
URL:https://stevejohnsonmusic.com/event/elmer-funk-avogadros-number-2/2022-05-14/
LOCATION:CO
CATEGORIES:group
ATTACH;FMTTYPE=image/jpeg:https://stevejohnsonmusic.com/wp-content/uploads/2022/04/Elmer-Funk-Avos-FB-event.jpg
END:VEVENT
BEGIN:VEVENT
DTSTART;TZID=America/Denver:20220518T190000
DTEND;TZID=America/Denver:20220518T213000
DTSTAMP:20260419T225326
CREATED:20220427T115158Z
LAST-MODIFIED:20220818T175548Z
UID:10000028-1652900400-1652909400@stevejohnsonmusic.com
SUMMARY:Island Grill Jazz Jam
DESCRIPTION:
URL:https://stevejohnsonmusic.com/event/island-grill-jazz-jam-17/2022-05-18/
LOCATION:Island Grill\, 2601 S Lemay Ave #12\, Fort Collins\, CO\, 80525\, United States
CATEGORIES:jazz
ATTACH;FMTTYPE=image/jpeg:https://stevejohnsonmusic.com/wp-content/uploads/2022/04/Island-Grill-Jazz-Jam-FB-Event-new.jpg
GEO:40.5515594;-105.0597445
X-APPLE-STRUCTURED-LOCATION;VALUE=URI;X-ADDRESS=Island Grill 2601 S Lemay Ave #12 Fort Collins CO 80525 United States;X-APPLE-RADIUS=500;X-TITLE=2601 S Lemay Ave #12:geo:-105.0597445,40.5515594
END:VEVENT
BEGIN:VEVENT
DTSTART;TZID=America/Denver:20220518T190000
DTEND;TZID=America/Denver:20220518T213000
DTSTAMP:20260419T225326
CREATED:20230609T220739Z
LAST-MODIFIED:20230609T220740Z
UID:10000440-1652900400-1652909400@stevejohnsonmusic.com
SUMMARY:Island Grill Jazz Jam
DESCRIPTION:
URL:https://stevejohnsonmusic.com/event/island-grill-jazz-jam-17-5/2022-05-18/
LOCATION:Island Grill\, 2601 S Lemay Ave #12\, Fort Collins\, CO\, 80525\, United States
CATEGORIES:jazz
ATTACH;FMTTYPE=image/jpeg:https://stevejohnsonmusic.com/wp-content/uploads/2022/04/Island-Grill-Jazz-Jam-FB-Event-new.jpg
GEO:40.5515594;-105.0597445
X-APPLE-STRUCTURED-LOCATION;VALUE=URI;X-ADDRESS=Island Grill 2601 S Lemay Ave #12 Fort Collins CO 80525 United States;X-APPLE-RADIUS=500;X-TITLE=2601 S Lemay Ave #12:geo:-105.0597445,40.5515594
END:VEVENT
BEGIN:VEVENT
DTSTART;TZID=America/Denver:20220520T193000
DTEND;TZID=America/Denver:20220520T193000
DTSTAMP:20260419T225326
CREATED:20220719T204042Z
LAST-MODIFIED:20220906T203753Z
UID:10000114-1653075000-1653075000@stevejohnsonmusic.com
SUMMARY:Steve Johnson @ West End Lounge
DESCRIPTION:
URL:https://stevejohnsonmusic.com/event/steve-johnson-west-end-lounge-12/
LOCATION:West End Lounge\, 127 W 4th St\, Loveland\, CO\, 80537\, United States
CATEGORIES:solo
GEO:40.3957193;-105.0773188
X-APPLE-STRUCTURED-LOCATION;VALUE=URI;X-ADDRESS=West End Lounge 127 W 4th St Loveland CO 80537 United States;X-APPLE-RADIUS=500;X-TITLE=127 W 4th St:geo:-105.0773188,40.3957193
END:VEVENT
BEGIN:VEVENT
DTSTART;TZID=America/Denver:20220529T180000
DTEND;TZID=America/Denver:20220529T180000
DTSTAMP:20260419T225326
CREATED:20220719T204043Z
LAST-MODIFIED:20220906T203712Z
UID:10000113-1653847200-1653847200@stevejohnsonmusic.com
SUMMARY:Just Jazz Quintet @ JJQ House Concert
DESCRIPTION:
URL:https://stevejohnsonmusic.com/event/just-jazz-quintet-jjq-house-concert-2/
LOCATION:CO
CATEGORIES:jazz
END:VEVENT
END:VCALENDAR