BEGIN:VCALENDAR
VERSION:2.0
PRODID:-//Steve Johnson Music - ECPv6.15.20//NONSGML v1.0//EN
CALSCALE:GREGORIAN
METHOD:PUBLISH
X-ORIGINAL-URL:https://stevejohnsonmusic.com
X-WR-CALDESC:Events for Steve Johnson Music
REFRESH-INTERVAL;VALUE=DURATION:PT1H
X-Robots-Tag:noindex
X-PUBLISHED-TTL:PT1H
BEGIN:VTIMEZONE
TZID:America/Denver
BEGIN:DAYLIGHT
TZOFFSETFROM:-0700
TZOFFSETTO:-0600
TZNAME:MDT
DTSTART:20220313T090000
END:DAYLIGHT
BEGIN:STANDARD
TZOFFSETFROM:-0600
TZOFFSETTO:-0700
TZNAME:MST
DTSTART:20221106T080000
END:STANDARD
BEGIN:DAYLIGHT
TZOFFSETFROM:-0700
TZOFFSETTO:-0600
TZNAME:MDT
DTSTART:20230312T090000
END:DAYLIGHT
BEGIN:STANDARD
TZOFFSETFROM:-0600
TZOFFSETTO:-0700
TZNAME:MST
DTSTART:20231105T080000
END:STANDARD
BEGIN:DAYLIGHT
TZOFFSETFROM:-0700
TZOFFSETTO:-0600
TZNAME:MDT
DTSTART:20240310T090000
END:DAYLIGHT
BEGIN:STANDARD
TZOFFSETFROM:-0600
TZOFFSETTO:-0700
TZNAME:MST
DTSTART:20241103T080000
END:STANDARD
END:VTIMEZONE
BEGIN:VEVENT
DTSTART;TZID=America/Denver:20230701T180000
DTEND;TZID=America/Denver:20230701T220000
DTSTAMP:20260422T112449
CREATED:20230216T154754Z
LAST-MODIFIED:20230216T154754Z
UID:10000351-1688234400-1688248800@stevejohnsonmusic.com
SUMMARY:(Private Engagement)
DESCRIPTION:
URL:https://stevejohnsonmusic.com/event/private-engagement-8/
LOCATION:(Private Engagement)\, United States
CATEGORIES:solo
END:VEVENT
BEGIN:VEVENT
DTSTART;VALUE=DATE:20230704
DTEND;VALUE=DATE:20230705
DTSTAMP:20260422T112449
CREATED:20220826T010104Z
LAST-MODIFIED:20220826T010104Z
UID:10000263-1688428800-1688515199@stevejohnsonmusic.com
SUMMARY:(Independence Day)
DESCRIPTION:
URL:https://stevejohnsonmusic.com/event/independence-day/2023-07-04/
LOCATION:CO
END:VEVENT
BEGIN:VEVENT
DTSTART;TZID=America/Denver:20230705T190000
DTEND;TZID=America/Denver:20230705T213000
DTSTAMP:20260422T112449
CREATED:20230609T230720Z
LAST-MODIFIED:20230610T002209Z
UID:10000456-1688583600-1688592600@stevejohnsonmusic.com
SUMMARY:Island Grill Jazz Jam
DESCRIPTION:Jazz Jam night at Island Grill! We read tunes from Real Books 1-3 and generally have a great time. Bring your horn and join us!
URL:https://stevejohnsonmusic.com/event/island-grill-jazz-jam-2/2023-07-05/
LOCATION:Island Grill\, 2601 S Lemay Ave #12\, Fort Collins\, CO\, 80525\, United States
CATEGORIES:jazz
ATTACH;FMTTYPE=image/png:https://stevejohnsonmusic.com/wp-content/uploads/2023/06/Island-Grill-Jazz-Jam-FB-Event-weekly.png
GEO:40.5515594;-105.0597445
X-APPLE-STRUCTURED-LOCATION;VALUE=URI;X-ADDRESS=Island Grill 2601 S Lemay Ave #12 Fort Collins CO 80525 United States;X-APPLE-RADIUS=500;X-TITLE=2601 S Lemay Ave #12:geo:-105.0597445,40.5515594
END:VEVENT
BEGIN:VEVENT
DTSTART;TZID=America/Denver:20230707T193000
DTEND;TZID=America/Denver:20230707T223000
DTSTAMP:20260422T112449
CREATED:20230718T153812Z
LAST-MODIFIED:20230718T153825Z
UID:10000365-1688758200-1688769000@stevejohnsonmusic.com
SUMMARY:Steve Johnson @ West End Lounge (Canceled Rain)
DESCRIPTION:
URL:https://stevejohnsonmusic.com/event/steve-johnson-west-end-lounge-53/
LOCATION:West End Lounge\, 127 W 4th St\, Loveland\, CO\, 80537\, United States
CATEGORIES:solo
ATTACH;FMTTYPE=image/jpeg:https://stevejohnsonmusic.com/wp-content/uploads/2022/09/WEL-20220902-FB-event.jpg
GEO:40.3957193;-105.0773188
X-APPLE-STRUCTURED-LOCATION;VALUE=URI;X-ADDRESS=West End Lounge 127 W 4th St Loveland CO 80537 United States;X-APPLE-RADIUS=500;X-TITLE=127 W 4th St:geo:-105.0773188,40.3957193
END:VEVENT
BEGIN:VEVENT
DTSTART;TZID=America/Denver:20230712T190000
DTEND;TZID=America/Denver:20230712T213000
DTSTAMP:20260422T112449
CREATED:20230609T230720Z
LAST-MODIFIED:20230610T002209Z
UID:10000457-1689188400-1689197400@stevejohnsonmusic.com
SUMMARY:Island Grill Jazz Jam
DESCRIPTION:Jazz Jam night at Island Grill! We read tunes from Real Books 1-3 and generally have a great time. Bring your horn and join us!
URL:https://stevejohnsonmusic.com/event/island-grill-jazz-jam-2/2023-07-12/
LOCATION:Island Grill\, 2601 S Lemay Ave #12\, Fort Collins\, CO\, 80525\, United States
CATEGORIES:jazz
ATTACH;FMTTYPE=image/png:https://stevejohnsonmusic.com/wp-content/uploads/2023/06/Island-Grill-Jazz-Jam-FB-Event-weekly.png
GEO:40.5515594;-105.0597445
X-APPLE-STRUCTURED-LOCATION;VALUE=URI;X-ADDRESS=Island Grill 2601 S Lemay Ave #12 Fort Collins CO 80525 United States;X-APPLE-RADIUS=500;X-TITLE=2601 S Lemay Ave #12:geo:-105.0597445,40.5515594
END:VEVENT
BEGIN:VEVENT
DTSTART;TZID=America/Denver:20230714T183000
DTEND;TZID=America/Denver:20230714T200000
DTSTAMP:20260422T112449
CREATED:20230116T202813Z
LAST-MODIFIED:20230116T202813Z
UID:10000335-1689359400-1689364800@stevejohnsonmusic.com
SUMMARY:Custom Shop Band @ Mead Summer Concerts in the Park
DESCRIPTION:
URL:https://stevejohnsonmusic.com/event/custom-shop-band-mead-summer-concerts-in-the-park/
LOCATION:Mead Town Park\, 441 Third Street\, Mead\, CO\, 80542\, United States
CATEGORIES:group
END:VEVENT
BEGIN:VEVENT
DTSTART;TZID=America/Denver:20230719T190000
DTEND;TZID=America/Denver:20230719T213000
DTSTAMP:20260422T112449
CREATED:20230609T230720Z
LAST-MODIFIED:20230610T002209Z
UID:10000458-1689793200-1689802200@stevejohnsonmusic.com
SUMMARY:Island Grill Jazz Jam
DESCRIPTION:Jazz Jam night at Island Grill! We read tunes from Real Books 1-3 and generally have a great time. Bring your horn and join us!
URL:https://stevejohnsonmusic.com/event/island-grill-jazz-jam-2/2023-07-19/
LOCATION:Island Grill\, 2601 S Lemay Ave #12\, Fort Collins\, CO\, 80525\, United States
CATEGORIES:jazz
ATTACH;FMTTYPE=image/png:https://stevejohnsonmusic.com/wp-content/uploads/2023/06/Island-Grill-Jazz-Jam-FB-Event-weekly.png
GEO:40.5515594;-105.0597445
X-APPLE-STRUCTURED-LOCATION;VALUE=URI;X-ADDRESS=Island Grill 2601 S Lemay Ave #12 Fort Collins CO 80525 United States;X-APPLE-RADIUS=500;X-TITLE=2601 S Lemay Ave #12:geo:-105.0597445,40.5515594
END:VEVENT
BEGIN:VEVENT
DTSTART;TZID=America/Denver:20230721T193000
DTEND;TZID=America/Denver:20230721T223000
DTSTAMP:20260422T112449
CREATED:20230718T153444Z
LAST-MODIFIED:20230718T153445Z
UID:10000143-1689967800-1689978600@stevejohnsonmusic.com
SUMMARY:Steve Johnson @ West End Lounge
DESCRIPTION:
URL:https://stevejohnsonmusic.com/event/steve-johnson-west-end-lounge-18-2022-08-19-3-4/
LOCATION:West End Lounge\, 127 W 4th St\, Loveland\, CO\, 80537\, United States
CATEGORIES:solo
ATTACH;FMTTYPE=image/jpeg:https://stevejohnsonmusic.com/wp-content/uploads/2022/04/WEL-event-nodate.jpg
GEO:40.3957193;-105.0773188
X-APPLE-STRUCTURED-LOCATION;VALUE=URI;X-ADDRESS=West End Lounge 127 W 4th St Loveland CO 80537 United States;X-APPLE-RADIUS=500;X-TITLE=127 W 4th St:geo:-105.0773188,40.3957193
END:VEVENT
BEGIN:VEVENT
DTSTART;TZID=America/Denver:20230722T180000
DTEND;TZID=America/Denver:20230722T210000
DTSTAMP:20260422T112449
CREATED:20230609T232223Z
LAST-MODIFIED:20230609T232223Z
UID:10000715-1690048800-1690059600@stevejohnsonmusic.com
SUMMARY:Steve Johnson @ Mighty River Brewing
DESCRIPTION:
URL:https://stevejohnsonmusic.com/event/steve-johnson-mighty-river-brewing-2/
LOCATION:Mighty River Brewing\, 6383 Fairgrounds Avenue\, Windsor\, CO\, 80550-7149\, United States
CATEGORIES:solo
END:VEVENT
BEGIN:VEVENT
DTSTART;TZID=America/Denver:20230726T190000
DTEND;TZID=America/Denver:20230726T213000
DTSTAMP:20260422T112449
CREATED:20230609T230720Z
LAST-MODIFIED:20230610T002209Z
UID:10000459-1690398000-1690407000@stevejohnsonmusic.com
SUMMARY:Island Grill Jazz Jam
DESCRIPTION:Jazz Jam night at Island Grill! We read tunes from Real Books 1-3 and generally have a great time. Bring your horn and join us!
URL:https://stevejohnsonmusic.com/event/island-grill-jazz-jam-2/2023-07-26/
LOCATION:Island Grill\, 2601 S Lemay Ave #12\, Fort Collins\, CO\, 80525\, United States
CATEGORIES:jazz
ATTACH;FMTTYPE=image/png:https://stevejohnsonmusic.com/wp-content/uploads/2023/06/Island-Grill-Jazz-Jam-FB-Event-weekly.png
GEO:40.5515594;-105.0597445
X-APPLE-STRUCTURED-LOCATION;VALUE=URI;X-ADDRESS=Island Grill 2601 S Lemay Ave #12 Fort Collins CO 80525 United States;X-APPLE-RADIUS=500;X-TITLE=2601 S Lemay Ave #12:geo:-105.0597445,40.5515594
END:VEVENT
BEGIN:VEVENT
DTSTART;VALUE=DATE:20230728
DTEND;VALUE=DATE:20230730
DTSTAMP:20260422T112449
CREATED:20230424T145403Z
LAST-MODIFIED:20230718T152702Z
UID:10000394-1690502400-1690675199@stevejohnsonmusic.com
SUMMARY:(Unavailable)
DESCRIPTION:Family wedding Durango
URL:https://stevejohnsonmusic.com/event/unavailable-4/
LOCATION:(Unavailable)\, United States
END:VEVENT
END:VCALENDAR