BEGIN:VCALENDAR
VERSION:2.0
PRODID:-//Steve Johnson Music - ECPv6.15.20//NONSGML v1.0//EN
CALSCALE:GREGORIAN
METHOD:PUBLISH
X-WR-CALNAME:Steve Johnson Music
X-ORIGINAL-URL:https://stevejohnsonmusic.com
X-WR-CALDESC:Events for Steve Johnson Music
REFRESH-INTERVAL;VALUE=DURATION:PT1H
X-Robots-Tag:noindex
X-PUBLISHED-TTL:PT1H
BEGIN:VTIMEZONE
TZID:America/Denver
BEGIN:DAYLIGHT
TZOFFSETFROM:-0700
TZOFFSETTO:-0600
TZNAME:MDT
DTSTART:20220313T090000
END:DAYLIGHT
BEGIN:STANDARD
TZOFFSETFROM:-0600
TZOFFSETTO:-0700
TZNAME:MST
DTSTART:20221106T080000
END:STANDARD
BEGIN:DAYLIGHT
TZOFFSETFROM:-0700
TZOFFSETTO:-0600
TZNAME:MDT
DTSTART:20230312T090000
END:DAYLIGHT
BEGIN:STANDARD
TZOFFSETFROM:-0600
TZOFFSETTO:-0700
TZNAME:MST
DTSTART:20231105T080000
END:STANDARD
BEGIN:DAYLIGHT
TZOFFSETFROM:-0700
TZOFFSETTO:-0600
TZNAME:MDT
DTSTART:20240310T090000
END:DAYLIGHT
BEGIN:STANDARD
TZOFFSETFROM:-0600
TZOFFSETTO:-0700
TZNAME:MST
DTSTART:20241103T080000
END:STANDARD
END:VTIMEZONE
BEGIN:VEVENT
DTSTART;TZID=America/Denver:20230802T190000
DTEND;TZID=America/Denver:20230802T213000
DTSTAMP:20260422T112429
CREATED:20230609T230720Z
LAST-MODIFIED:20230610T002209Z
UID:10000460-1691002800-1691011800@stevejohnsonmusic.com
SUMMARY:Island Grill Jazz Jam
DESCRIPTION:Jazz Jam night at Island Grill! We read tunes from Real Books 1-3 and generally have a great time. Bring your horn and join us!
URL:https://stevejohnsonmusic.com/event/island-grill-jazz-jam-2/2023-08-02/
LOCATION:Island Grill\, 2601 S Lemay Ave #12\, Fort Collins\, CO\, 80525\, United States
CATEGORIES:jazz
ATTACH;FMTTYPE=image/png:https://stevejohnsonmusic.com/wp-content/uploads/2023/06/Island-Grill-Jazz-Jam-FB-Event-weekly.png
GEO:40.5515594;-105.0597445
X-APPLE-STRUCTURED-LOCATION;VALUE=URI;X-ADDRESS=Island Grill 2601 S Lemay Ave #12 Fort Collins CO 80525 United States;X-APPLE-RADIUS=500;X-TITLE=2601 S Lemay Ave #12:geo:-105.0597445,40.5515594
END:VEVENT
BEGIN:VEVENT
DTSTART;TZID=America/Denver:20230804T193000
DTEND;TZID=America/Denver:20230804T223000
DTSTAMP:20260422T112429
CREATED:20230718T153355Z
LAST-MODIFIED:20230718T153356Z
UID:10000366-1691177400-1691188200@stevejohnsonmusic.com
SUMMARY:Steve Johnson @ West End Lounge
DESCRIPTION:
URL:https://stevejohnsonmusic.com/event/steve-johnson-west-end-lounge-47-2/2023-08-04/
LOCATION:West End Lounge\, 127 W 4th St\, Loveland\, CO\, 80537\, United States
CATEGORIES:solo
ATTACH;FMTTYPE=image/jpeg:https://stevejohnsonmusic.com/wp-content/uploads/2022/09/WEL-20220902-FB-event.jpg
GEO:40.3957193;-105.0773188
X-APPLE-STRUCTURED-LOCATION;VALUE=URI;X-ADDRESS=West End Lounge 127 W 4th St Loveland CO 80537 United States;X-APPLE-RADIUS=500;X-TITLE=127 W 4th St:geo:-105.0773188,40.3957193
END:VEVENT
BEGIN:VEVENT
DTSTART;TZID=America/Denver:20230805T180000
DTEND;TZID=America/Denver:20230805T210000
DTSTAMP:20260422T112429
CREATED:20230718T153116Z
LAST-MODIFIED:20230718T153116Z
UID:10000716-1691258400-1691269200@stevejohnsonmusic.com
SUMMARY:Custom Shop Band @ Bootstrap Brewing Co.
DESCRIPTION:
URL:https://stevejohnsonmusic.com/event/custom-shop-band-bootstrap-brewing-co/
LOCATION:Bootstrap Brewing Company\, 142 Pratt Street\, Longmont\, CO\, 80501\, United States
CATEGORIES:group
END:VEVENT
BEGIN:VEVENT
DTSTART;TZID=America/Denver:20230809T190000
DTEND;TZID=America/Denver:20230809T213000
DTSTAMP:20260422T112429
CREATED:20230609T230720Z
LAST-MODIFIED:20230610T002209Z
UID:10000461-1691607600-1691616600@stevejohnsonmusic.com
SUMMARY:Island Grill Jazz Jam
DESCRIPTION:Jazz Jam night at Island Grill! We read tunes from Real Books 1-3 and generally have a great time. Bring your horn and join us!
URL:https://stevejohnsonmusic.com/event/island-grill-jazz-jam-2/2023-08-09/
LOCATION:Island Grill\, 2601 S Lemay Ave #12\, Fort Collins\, CO\, 80525\, United States
CATEGORIES:jazz
ATTACH;FMTTYPE=image/png:https://stevejohnsonmusic.com/wp-content/uploads/2023/06/Island-Grill-Jazz-Jam-FB-Event-weekly.png
GEO:40.5515594;-105.0597445
X-APPLE-STRUCTURED-LOCATION;VALUE=URI;X-ADDRESS=Island Grill 2601 S Lemay Ave #12 Fort Collins CO 80525 United States;X-APPLE-RADIUS=500;X-TITLE=2601 S Lemay Ave #12:geo:-105.0597445,40.5515594
END:VEVENT
BEGIN:VEVENT
DTSTART;TZID=America/Denver:20230811T123000
DTEND;TZID=America/Denver:20230811T143000
DTSTAMP:20260422T112429
CREATED:20230804T210439Z
LAST-MODIFIED:20230806T045025Z
UID:10000728-1691757000-1691764200@stevejohnsonmusic.com
SUMMARY:David Wiatrolik rhsl\, location tbd
DESCRIPTION:315 S Impala dr. Fort Collins \n\nPull onto olive street and park in front of the garage\, the studio is on the left side of the garage.
URL:https://stevejohnsonmusic.com/event/david-wiatrolik-rhsl/
LOCATION:CO
END:VEVENT
BEGIN:VEVENT
DTSTART;TZID=America/Denver:20230812T170000
DTEND;TZID=America/Denver:20230812T200000
DTSTAMP:20260422T112429
CREATED:20230804T210116Z
LAST-MODIFIED:20230804T210140Z
UID:10000727-1691859600-1691870400@stevejohnsonmusic.com
SUMMARY:(Private Engagement)
DESCRIPTION:House party w/ David Wiatrolic.
URL:https://stevejohnsonmusic.com/event/private-party/
LOCATION:(Private Engagement)\, United States
CATEGORIES:group
END:VEVENT
BEGIN:VEVENT
DTSTART;TZID=America/Denver:20230813T130000
DTEND;TZID=America/Denver:20230813T163000
DTSTAMP:20260422T112429
CREATED:20230328T170339Z
LAST-MODIFIED:20230328T170401Z
UID:10000387-1691931600-1691944200@stevejohnsonmusic.com
SUMMARY:Custom Shop Band @ Mishawaka
DESCRIPTION:
URL:https://stevejohnsonmusic.com/event/custom-shop-band-mishawaka/
LOCATION:Mishawaka Ampitheater\, 13714 Poudre Canyon Hwy\, Bellvue\, CO\, 80512\, United States
CATEGORIES:group
END:VEVENT
BEGIN:VEVENT
DTSTART;VALUE=DATE:20230816
DTEND;VALUE=DATE:20230821
DTSTAMP:20260422T112429
CREATED:20230522T165810Z
LAST-MODIFIED:20230718T152634Z
UID:10000404-1692144000-1692575999@stevejohnsonmusic.com
SUMMARY:(Unavailable)
DESCRIPTION:Family travel Missouri
URL:https://stevejohnsonmusic.com/event/unavailable-5/
LOCATION:(Unavailable)\, United States
END:VEVENT
BEGIN:VEVENT
DTSTART;TZID=America/Denver:20230816T190000
DTEND;TZID=America/Denver:20230816T213000
DTSTAMP:20260422T112429
CREATED:20230609T230720Z
LAST-MODIFIED:20230610T002209Z
UID:10000462-1692212400-1692221400@stevejohnsonmusic.com
SUMMARY:Island Grill Jazz Jam
DESCRIPTION:Jazz Jam night at Island Grill! We read tunes from Real Books 1-3 and generally have a great time. Bring your horn and join us!
URL:https://stevejohnsonmusic.com/event/island-grill-jazz-jam-2/2023-08-16/
LOCATION:Island Grill\, 2601 S Lemay Ave #12\, Fort Collins\, CO\, 80525\, United States
CATEGORIES:jazz
ATTACH;FMTTYPE=image/png:https://stevejohnsonmusic.com/wp-content/uploads/2023/06/Island-Grill-Jazz-Jam-FB-Event-weekly.png
GEO:40.5515594;-105.0597445
X-APPLE-STRUCTURED-LOCATION;VALUE=URI;X-ADDRESS=Island Grill 2601 S Lemay Ave #12 Fort Collins CO 80525 United States;X-APPLE-RADIUS=500;X-TITLE=2601 S Lemay Ave #12:geo:-105.0597445,40.5515594
END:VEVENT
BEGIN:VEVENT
DTSTART;TZID=America/Denver:20230820T190000
DTEND;TZID=America/Denver:20230820T210000
DTSTAMP:20260422T112429
CREATED:20230725T180735Z
LAST-MODIFIED:20230725T180735Z
UID:10000726-1692558000-1692565200@stevejohnsonmusic.com
SUMMARY:Funky Business rhsl\, Liberty Common HS\, FC
DESCRIPTION:
URL:https://stevejohnsonmusic.com/event/funky-business-rhsl-liberty-common-hs-fc/
LOCATION:CO
END:VEVENT
BEGIN:VEVENT
DTSTART;TZID=America/Denver:20230823T190000
DTEND;TZID=America/Denver:20230823T213000
DTSTAMP:20260422T112429
CREATED:20230609T230720Z
LAST-MODIFIED:20230610T002209Z
UID:10000463-1692817200-1692826200@stevejohnsonmusic.com
SUMMARY:Island Grill Jazz Jam
DESCRIPTION:Jazz Jam night at Island Grill! We read tunes from Real Books 1-3 and generally have a great time. Bring your horn and join us!
URL:https://stevejohnsonmusic.com/event/island-grill-jazz-jam-2/2023-08-23/
LOCATION:Island Grill\, 2601 S Lemay Ave #12\, Fort Collins\, CO\, 80525\, United States
CATEGORIES:jazz
ATTACH;FMTTYPE=image/png:https://stevejohnsonmusic.com/wp-content/uploads/2023/06/Island-Grill-Jazz-Jam-FB-Event-weekly.png
GEO:40.5515594;-105.0597445
X-APPLE-STRUCTURED-LOCATION;VALUE=URI;X-ADDRESS=Island Grill 2601 S Lemay Ave #12 Fort Collins CO 80525 United States;X-APPLE-RADIUS=500;X-TITLE=2601 S Lemay Ave #12:geo:-105.0597445,40.5515594
END:VEVENT
BEGIN:VEVENT
DTSTART;TZID=America/Denver:20230824T183000
DTEND;TZID=America/Denver:20230824T213000
DTSTAMP:20260422T112429
CREATED:20230821T150124Z
LAST-MODIFIED:20230821T150124Z
UID:10000729-1692901800-1692912600@stevejohnsonmusic.com
SUMMARY:Gin Mill Gypsies @ Maxline Brewing
DESCRIPTION:
URL:https://stevejohnsonmusic.com/event/gin-mill-gypsies-maxline-brewing/
LOCATION:Maxline Brewing\, 2724 McClelland Dr #190\, Fort Collins\, 80525\, United States
CATEGORIES:group
END:VEVENT
BEGIN:VEVENT
DTSTART;TZID=America/Denver:20230826T183000
DTEND;TZID=America/Denver:20230826T213000
DTSTAMP:20260422T112429
CREATED:20230512T164144Z
LAST-MODIFIED:20230512T164144Z
UID:10000398-1693074600-1693085400@stevejohnsonmusic.com
SUMMARY:(Private Engagement)
DESCRIPTION:w/ Peaches Embry – birthday party\, Lone Tree.
URL:https://stevejohnsonmusic.com/event/private-engagement-10/
LOCATION:(Private Engagement)\, United States
CATEGORIES:group
END:VEVENT
BEGIN:VEVENT
DTSTART;TZID=America/Denver:20230830T190000
DTEND;TZID=America/Denver:20230830T213000
DTSTAMP:20260422T112429
CREATED:20230609T230720Z
LAST-MODIFIED:20230610T002209Z
UID:10000464-1693422000-1693431000@stevejohnsonmusic.com
SUMMARY:Island Grill Jazz Jam
DESCRIPTION:Jazz Jam night at Island Grill! We read tunes from Real Books 1-3 and generally have a great time. Bring your horn and join us!
URL:https://stevejohnsonmusic.com/event/island-grill-jazz-jam-2/2023-08-30/
LOCATION:Island Grill\, 2601 S Lemay Ave #12\, Fort Collins\, CO\, 80525\, United States
CATEGORIES:jazz
ATTACH;FMTTYPE=image/png:https://stevejohnsonmusic.com/wp-content/uploads/2023/06/Island-Grill-Jazz-Jam-FB-Event-weekly.png
GEO:40.5515594;-105.0597445
X-APPLE-STRUCTURED-LOCATION;VALUE=URI;X-ADDRESS=Island Grill 2601 S Lemay Ave #12 Fort Collins CO 80525 United States;X-APPLE-RADIUS=500;X-TITLE=2601 S Lemay Ave #12:geo:-105.0597445,40.5515594
END:VEVENT
END:VCALENDAR