BEGIN:VCALENDAR
VERSION:2.0
PRODID:-//Steve Johnson Music - ECPv6.15.20//NONSGML v1.0//EN
CALSCALE:GREGORIAN
METHOD:PUBLISH
X-ORIGINAL-URL:https://stevejohnsonmusic.com
X-WR-CALDESC:Events for Steve Johnson Music
REFRESH-INTERVAL;VALUE=DURATION:PT1H
X-Robots-Tag:noindex
X-PUBLISHED-TTL:PT1H
BEGIN:VTIMEZONE
TZID:America/Denver
BEGIN:DAYLIGHT
TZOFFSETFROM:-0700
TZOFFSETTO:-0600
TZNAME:MDT
DTSTART:20220313T090000
END:DAYLIGHT
BEGIN:STANDARD
TZOFFSETFROM:-0600
TZOFFSETTO:-0700
TZNAME:MST
DTSTART:20221106T080000
END:STANDARD
BEGIN:DAYLIGHT
TZOFFSETFROM:-0700
TZOFFSETTO:-0600
TZNAME:MDT
DTSTART:20230312T090000
END:DAYLIGHT
BEGIN:STANDARD
TZOFFSETFROM:-0600
TZOFFSETTO:-0700
TZNAME:MST
DTSTART:20231105T080000
END:STANDARD
BEGIN:DAYLIGHT
TZOFFSETFROM:-0700
TZOFFSETTO:-0600
TZNAME:MDT
DTSTART:20240310T090000
END:DAYLIGHT
BEGIN:STANDARD
TZOFFSETFROM:-0600
TZOFFSETTO:-0700
TZNAME:MST
DTSTART:20241103T080000
END:STANDARD
END:VTIMEZONE
BEGIN:VEVENT
DTSTART;VALUE=DATE:20230904
DTEND;VALUE=DATE:20230905
DTSTAMP:20260422T125105
CREATED:20220817T214707Z
LAST-MODIFIED:20220826T141000Z
UID:10000186-1693785600-1693871999@stevejohnsonmusic.com
SUMMARY:(Labor Day)
DESCRIPTION:
URL:https://stevejohnsonmusic.com/event/labor-day/2023-09-04/
LOCATION:CO
END:VEVENT
BEGIN:VEVENT
DTSTART;TZID=America/Denver:20230906T190000
DTEND;TZID=America/Denver:20230906T213000
DTSTAMP:20260422T125105
CREATED:20230609T230720Z
LAST-MODIFIED:20230610T002209Z
UID:10000465-1694026800-1694035800@stevejohnsonmusic.com
SUMMARY:Island Grill Jazz Jam
DESCRIPTION:Jazz Jam night at Island Grill! We read tunes from Real Books 1-3 and generally have a great time. Bring your horn and join us!
URL:https://stevejohnsonmusic.com/event/island-grill-jazz-jam-2/2023-09-06/
LOCATION:Island Grill\, 2601 S Lemay Ave #12\, Fort Collins\, CO\, 80525\, United States
CATEGORIES:jazz
ATTACH;FMTTYPE=image/png:https://stevejohnsonmusic.com/wp-content/uploads/2023/06/Island-Grill-Jazz-Jam-FB-Event-weekly.png
GEO:40.5515594;-105.0597445
X-APPLE-STRUCTURED-LOCATION;VALUE=URI;X-ADDRESS=Island Grill 2601 S Lemay Ave #12 Fort Collins CO 80525 United States;X-APPLE-RADIUS=500;X-TITLE=2601 S Lemay Ave #12:geo:-105.0597445,40.5515594
END:VEVENT
BEGIN:VEVENT
DTSTART;TZID=America/Denver:20230913T190000
DTEND;TZID=America/Denver:20230913T213000
DTSTAMP:20260422T125105
CREATED:20230609T230720Z
LAST-MODIFIED:20230610T002209Z
UID:10000466-1694631600-1694640600@stevejohnsonmusic.com
SUMMARY:Island Grill Jazz Jam
DESCRIPTION:Jazz Jam night at Island Grill! We read tunes from Real Books 1-3 and generally have a great time. Bring your horn and join us!
URL:https://stevejohnsonmusic.com/event/island-grill-jazz-jam-2/2023-09-13/
LOCATION:Island Grill\, 2601 S Lemay Ave #12\, Fort Collins\, CO\, 80525\, United States
CATEGORIES:jazz
ATTACH;FMTTYPE=image/png:https://stevejohnsonmusic.com/wp-content/uploads/2023/06/Island-Grill-Jazz-Jam-FB-Event-weekly.png
GEO:40.5515594;-105.0597445
X-APPLE-STRUCTURED-LOCATION;VALUE=URI;X-ADDRESS=Island Grill 2601 S Lemay Ave #12 Fort Collins CO 80525 United States;X-APPLE-RADIUS=500;X-TITLE=2601 S Lemay Ave #12:geo:-105.0597445,40.5515594
END:VEVENT
BEGIN:VEVENT
DTSTART;TZID=America/Denver:20230915T190000
DTEND;TZID=America/Denver:20230915T210000
DTSTAMP:20260422T125105
CREATED:20230725T180454Z
LAST-MODIFIED:20230725T180454Z
UID:10000725-1694804400-1694811600@stevejohnsonmusic.com
SUMMARY:Funky Business sub @ Golden\, CO
DESCRIPTION:
URL:https://stevejohnsonmusic.com/event/funky-business-sub-golden-co/
LOCATION:CO
CATEGORIES:group
END:VEVENT
BEGIN:VEVENT
DTSTART;TZID=America/Denver:20230920T190000
DTEND;TZID=America/Denver:20230920T213000
DTSTAMP:20260422T125105
CREATED:20230609T230720Z
LAST-MODIFIED:20230610T002209Z
UID:10000467-1695236400-1695245400@stevejohnsonmusic.com
SUMMARY:Island Grill Jazz Jam
DESCRIPTION:Jazz Jam night at Island Grill! We read tunes from Real Books 1-3 and generally have a great time. Bring your horn and join us!
URL:https://stevejohnsonmusic.com/event/island-grill-jazz-jam-2/2023-09-20/
LOCATION:Island Grill\, 2601 S Lemay Ave #12\, Fort Collins\, CO\, 80525\, United States
CATEGORIES:jazz
ATTACH;FMTTYPE=image/png:https://stevejohnsonmusic.com/wp-content/uploads/2023/06/Island-Grill-Jazz-Jam-FB-Event-weekly.png
GEO:40.5515594;-105.0597445
X-APPLE-STRUCTURED-LOCATION;VALUE=URI;X-ADDRESS=Island Grill 2601 S Lemay Ave #12 Fort Collins CO 80525 United States;X-APPLE-RADIUS=500;X-TITLE=2601 S Lemay Ave #12:geo:-105.0597445,40.5515594
END:VEVENT
BEGIN:VEVENT
DTSTART;TZID=America/Denver:20230923T110000
DTEND;TZID=America/Denver:20230923T130000
DTSTAMP:20260422T125105
CREATED:20230320T173037Z
LAST-MODIFIED:20230320T173037Z
UID:10000355-1695466800-1695474000@stevejohnsonmusic.com
SUMMARY:Custom Shop Band @ Timnath Fall Festival
DESCRIPTION:
URL:https://stevejohnsonmusic.com/event/custom-shop-band-timnath-fall-festival/
LOCATION:Timnath Fall Festival\, Timnath\, CO\, United States
CATEGORIES:group
END:VEVENT
BEGIN:VEVENT
DTSTART;TZID=America/Denver:20230927T190000
DTEND;TZID=America/Denver:20230927T213000
DTSTAMP:20260422T125105
CREATED:20230609T230720Z
LAST-MODIFIED:20230610T002209Z
UID:10000468-1695841200-1695850200@stevejohnsonmusic.com
SUMMARY:Island Grill Jazz Jam
DESCRIPTION:Jazz Jam night at Island Grill! We read tunes from Real Books 1-3 and generally have a great time. Bring your horn and join us!
URL:https://stevejohnsonmusic.com/event/island-grill-jazz-jam-2/2023-09-27/
LOCATION:Island Grill\, 2601 S Lemay Ave #12\, Fort Collins\, CO\, 80525\, United States
CATEGORIES:jazz
ATTACH;FMTTYPE=image/png:https://stevejohnsonmusic.com/wp-content/uploads/2023/06/Island-Grill-Jazz-Jam-FB-Event-weekly.png
GEO:40.5515594;-105.0597445
X-APPLE-STRUCTURED-LOCATION;VALUE=URI;X-ADDRESS=Island Grill 2601 S Lemay Ave #12 Fort Collins CO 80525 United States;X-APPLE-RADIUS=500;X-TITLE=2601 S Lemay Ave #12:geo:-105.0597445,40.5515594
END:VEVENT
END:VCALENDAR