BEGIN:VCALENDAR
VERSION:2.0
PRODID:-//Steve Johnson Music - ECPv6.15.20//NONSGML v1.0//EN
CALSCALE:GREGORIAN
METHOD:PUBLISH
X-WR-CALNAME:Steve Johnson Music
X-ORIGINAL-URL:https://stevejohnsonmusic.com
X-WR-CALDESC:Events for Steve Johnson Music
REFRESH-INTERVAL;VALUE=DURATION:PT1H
X-Robots-Tag:noindex
X-PUBLISHED-TTL:PT1H
BEGIN:VTIMEZONE
TZID:America/Denver
BEGIN:DAYLIGHT
TZOFFSETFROM:-0700
TZOFFSETTO:-0600
TZNAME:MDT
DTSTART:20230312T090000
END:DAYLIGHT
BEGIN:STANDARD
TZOFFSETFROM:-0600
TZOFFSETTO:-0700
TZNAME:MST
DTSTART:20231105T080000
END:STANDARD
BEGIN:DAYLIGHT
TZOFFSETFROM:-0700
TZOFFSETTO:-0600
TZNAME:MDT
DTSTART:20240310T090000
END:DAYLIGHT
BEGIN:STANDARD
TZOFFSETFROM:-0600
TZOFFSETTO:-0700
TZNAME:MST
DTSTART:20241103T080000
END:STANDARD
BEGIN:DAYLIGHT
TZOFFSETFROM:-0700
TZOFFSETTO:-0600
TZNAME:MDT
DTSTART:20250309T090000
END:DAYLIGHT
BEGIN:STANDARD
TZOFFSETFROM:-0600
TZOFFSETTO:-0700
TZNAME:MST
DTSTART:20251102T080000
END:STANDARD
END:VTIMEZONE
BEGIN:VEVENT
DTSTART;VALUE=DATE:20240902
DTEND;VALUE=DATE:20240903
DTSTAMP:20260423T192828
CREATED:20220817T214707Z
LAST-MODIFIED:20220826T141000Z
UID:10000187-1725235200-1725321599@stevejohnsonmusic.com
SUMMARY:(Labor Day)
DESCRIPTION:
URL:https://stevejohnsonmusic.com/event/labor-day/2024-09-02/
LOCATION:CO
END:VEVENT
BEGIN:VEVENT
DTSTART;TZID=America/Denver:20240902T140000
DTEND;TZID=America/Denver:20240902T170000
DTSTAMP:20260423T192828
CREATED:20240830T154544Z
LAST-MODIFIED:20240830T154545Z
UID:10001161-1725285600-1725296400@stevejohnsonmusic.com
SUMMARY:Steve Johnson @ Sweetheart Winery
DESCRIPTION:
URL:https://stevejohnsonmusic.com/event/steve-johnson-sweetheart-winery-3/
LOCATION:Sweet Heart Winery\, 5500 West Highway 34\, Loveland\, 80537\, United States
CATEGORIES:solo
END:VEVENT
BEGIN:VEVENT
DTSTART;TZID=America/Denver:20240904T190000
DTEND;TZID=America/Denver:20240904T213000
DTSTAMP:20260423T192828
CREATED:20240430T002143Z
LAST-MODIFIED:20240430T002143Z
UID:10000945-1725476400-1725485400@stevejohnsonmusic.com
SUMMARY:Island Grill Jazz Jam
DESCRIPTION:Jazz Jam night at Island Grill! We read tunes from Real Books 1-3 and generally have a great time. Bring your horn and join us!
URL:https://stevejohnsonmusic.com/event/island-grill-jazz-jam-7-2/2024-09-04/
LOCATION:Island Grill\, 2601 S Lemay Ave #12\, Fort Collins\, CO\, 80525\, United States
CATEGORIES:jazz
ATTACH;FMTTYPE=image/png:https://stevejohnsonmusic.com/wp-content/uploads/2023/06/Island-Grill-Jazz-Jam-FB-Event-weekly.png
GEO:40.5515594;-105.0597445
X-APPLE-STRUCTURED-LOCATION;VALUE=URI;X-ADDRESS=Island Grill 2601 S Lemay Ave #12 Fort Collins CO 80525 United States;X-APPLE-RADIUS=500;X-TITLE=2601 S Lemay Ave #12:geo:-105.0597445,40.5515594
END:VEVENT
BEGIN:VEVENT
DTSTART;TZID=America/Denver:20240910T180000
DTEND;TZID=America/Denver:20240910T200000
DTSTAMP:20260423T192828
CREATED:20240808T170124Z
LAST-MODIFIED:20240808T170124Z
UID:10001157-1725991200-1725998400@stevejohnsonmusic.com
SUMMARY:Steve Johnson @ Sweetheart Winery
DESCRIPTION:
URL:https://stevejohnsonmusic.com/event/steve-johnson-sweetheart-winery-2/
LOCATION:Sweet Heart Winery\, 5500 West Highway 34\, Loveland\, 80537\, United States
CATEGORIES:solo
END:VEVENT
BEGIN:VEVENT
DTSTART;TZID=America/Denver:20240911T190000
DTEND;TZID=America/Denver:20240911T213000
DTSTAMP:20260423T192828
CREATED:20240430T002143Z
LAST-MODIFIED:20240430T002143Z
UID:10000946-1726081200-1726090200@stevejohnsonmusic.com
SUMMARY:Island Grill Jazz Jam
DESCRIPTION:Jazz Jam night at Island Grill! We read tunes from Real Books 1-3 and generally have a great time. Bring your horn and join us!
URL:https://stevejohnsonmusic.com/event/island-grill-jazz-jam-7-2/2024-09-11/
LOCATION:Island Grill\, 2601 S Lemay Ave #12\, Fort Collins\, CO\, 80525\, United States
CATEGORIES:jazz
ATTACH;FMTTYPE=image/png:https://stevejohnsonmusic.com/wp-content/uploads/2023/06/Island-Grill-Jazz-Jam-FB-Event-weekly.png
GEO:40.5515594;-105.0597445
X-APPLE-STRUCTURED-LOCATION;VALUE=URI;X-ADDRESS=Island Grill 2601 S Lemay Ave #12 Fort Collins CO 80525 United States;X-APPLE-RADIUS=500;X-TITLE=2601 S Lemay Ave #12:geo:-105.0597445,40.5515594
END:VEVENT
BEGIN:VEVENT
DTSTART;TZID=America/Denver:20240918T190000
DTEND;TZID=America/Denver:20240918T213000
DTSTAMP:20260423T192828
CREATED:20240430T002143Z
LAST-MODIFIED:20240430T002143Z
UID:10000947-1726686000-1726695000@stevejohnsonmusic.com
SUMMARY:Island Grill Jazz Jam
DESCRIPTION:Jazz Jam night at Island Grill! We read tunes from Real Books 1-3 and generally have a great time. Bring your horn and join us!
URL:https://stevejohnsonmusic.com/event/island-grill-jazz-jam-7-2/2024-09-18/
LOCATION:Island Grill\, 2601 S Lemay Ave #12\, Fort Collins\, CO\, 80525\, United States
CATEGORIES:jazz
ATTACH;FMTTYPE=image/png:https://stevejohnsonmusic.com/wp-content/uploads/2023/06/Island-Grill-Jazz-Jam-FB-Event-weekly.png
GEO:40.5515594;-105.0597445
X-APPLE-STRUCTURED-LOCATION;VALUE=URI;X-ADDRESS=Island Grill 2601 S Lemay Ave #12 Fort Collins CO 80525 United States;X-APPLE-RADIUS=500;X-TITLE=2601 S Lemay Ave #12:geo:-105.0597445,40.5515594
END:VEVENT
BEGIN:VEVENT
DTSTART;TZID=America/Denver:20240920T183000
DTEND;TZID=America/Denver:20240920T203000
DTSTAMP:20260423T192828
CREATED:20240409T145153Z
LAST-MODIFIED:20240409T145153Z
UID:10000927-1726857000-1726864200@stevejohnsonmusic.com
SUMMARY:Steve Johnson @ CJ's Patio Grill
DESCRIPTION:
URL:https://stevejohnsonmusic.com/event/steve-johnson-cjs-patio-grill-6/
LOCATION:CJ’s Patio Grill\, 1331 Eagle Drive\, Loveland\, CO\, 80537\, United States
CATEGORIES:solo
END:VEVENT
BEGIN:VEVENT
DTSTART;TZID=America/Denver:20240922T173000
DTEND;TZID=America/Denver:20240922T200000
DTSTAMP:20260423T192828
CREATED:20240811T200832Z
LAST-MODIFIED:20240811T200832Z
UID:10001159-1727026200-1727035200@stevejohnsonmusic.com
SUMMARY:Steve Johnson Group @ Johnny’s Italian Steakhouse
DESCRIPTION:
URL:https://stevejohnsonmusic.com/event/steve-johnson-group-johnnys-italian-steakhouse-5/
LOCATION:Johnny’s Italian Steakhouse\, 14275 Lincoln Street\, Thornton\, 80023\, United States
CATEGORIES:group,jazz
END:VEVENT
BEGIN:VEVENT
DTSTART;TZID=America/Denver:20240925T190000
DTEND;TZID=America/Denver:20240925T213000
DTSTAMP:20260423T192828
CREATED:20240430T002143Z
LAST-MODIFIED:20240430T002143Z
UID:10000867-1727290800-1727299800@stevejohnsonmusic.com
SUMMARY:Island Grill Jazz Jam
DESCRIPTION:Jazz Jam night at Island Grill! We read tunes from Real Books 1-3 and generally have a great time. Bring your horn and join us!
URL:https://stevejohnsonmusic.com/event/island-grill-jazz-jam-7-2/2024-09-25/
LOCATION:Island Grill\, 2601 S Lemay Ave #12\, Fort Collins\, CO\, 80525\, United States
CATEGORIES:jazz
ATTACH;FMTTYPE=image/png:https://stevejohnsonmusic.com/wp-content/uploads/2023/06/Island-Grill-Jazz-Jam-FB-Event-weekly.png
GEO:40.5515594;-105.0597445
X-APPLE-STRUCTURED-LOCATION;VALUE=URI;X-ADDRESS=Island Grill 2601 S Lemay Ave #12 Fort Collins CO 80525 United States;X-APPLE-RADIUS=500;X-TITLE=2601 S Lemay Ave #12:geo:-105.0597445,40.5515594
END:VEVENT
BEGIN:VEVENT
DTSTART;TZID=America/Denver:20240929T140000
DTEND;TZID=America/Denver:20240929T170000
DTSTAMP:20260423T192828
CREATED:20240911T163040Z
LAST-MODIFIED:20240911T163040Z
UID:10001162-1727618400-1727629200@stevejohnsonmusic.com
SUMMARY:Steve Johnson @ Sweet Heart Winery
DESCRIPTION:
URL:https://stevejohnsonmusic.com/event/steve-johnson-sweet-heart-winery-2/
LOCATION:Sweet Heart Winery\, 5500 West Highway 34\, Loveland\, 80537\, United States
CATEGORIES:solo
END:VEVENT
END:VCALENDAR