BEGIN:VCALENDAR
VERSION:2.0
PRODID:-//Steve Johnson Music - ECPv6.15.20//NONSGML v1.0//EN
CALSCALE:GREGORIAN
METHOD:PUBLISH
X-WR-CALNAME:Steve Johnson Music
X-ORIGINAL-URL:https://stevejohnsonmusic.com
X-WR-CALDESC:Events for Steve Johnson Music
REFRESH-INTERVAL;VALUE=DURATION:PT1H
X-Robots-Tag:noindex
X-PUBLISHED-TTL:PT1H
BEGIN:VTIMEZONE
TZID:America/Denver
BEGIN:DAYLIGHT
TZOFFSETFROM:-0700
TZOFFSETTO:-0600
TZNAME:MDT
DTSTART:20210314T090000
END:DAYLIGHT
BEGIN:STANDARD
TZOFFSETFROM:-0600
TZOFFSETTO:-0700
TZNAME:MST
DTSTART:20211107T080000
END:STANDARD
BEGIN:DAYLIGHT
TZOFFSETFROM:-0700
TZOFFSETTO:-0600
TZNAME:MDT
DTSTART:20220313T090000
END:DAYLIGHT
BEGIN:STANDARD
TZOFFSETFROM:-0600
TZOFFSETTO:-0700
TZNAME:MST
DTSTART:20221106T080000
END:STANDARD
BEGIN:DAYLIGHT
TZOFFSETFROM:-0700
TZOFFSETTO:-0600
TZNAME:MDT
DTSTART:20230312T090000
END:DAYLIGHT
BEGIN:STANDARD
TZOFFSETFROM:-0600
TZOFFSETTO:-0700
TZNAME:MST
DTSTART:20231105T080000
END:STANDARD
END:VTIMEZONE
BEGIN:VEVENT
DTSTART;TZID=America/Denver:20220924T190000
DTEND;TZID=America/Denver:20220924T223000
DTSTAMP:20260420T232620
CREATED:20220915T180337Z
LAST-MODIFIED:20220915T180759Z
UID:10000279-1664046000-1664058600@stevejohnsonmusic.com
SUMMARY:Elmer Funk @ Avogadro's Number
DESCRIPTION:
URL:https://stevejohnsonmusic.com/event/elmer-funk-avogadros-number-2-2/
LOCATION:Avogadro’s Number\, 605 S Mason Street\, Fort Collins\, CO\, 80524\, United States
CATEGORIES:group
ATTACH;FMTTYPE=image/jpeg:https://stevejohnsonmusic.com/wp-content/uploads/2022/04/Elmer-Funk-Avos-FB-event.jpg
GEO:40.5795915;-105.0792564
X-APPLE-STRUCTURED-LOCATION;VALUE=URI;X-ADDRESS=Avogadro’s Number 605 S Mason Street Fort Collins CO 80524 United States;X-APPLE-RADIUS=500;X-TITLE=605 S Mason Street:geo:-105.0792564,40.5795915
END:VEVENT
BEGIN:VEVENT
DTSTART;TZID=America/Denver:20220820T140000
DTEND;TZID=America/Denver:20220820T140000
DTSTAMP:20260420T232620
CREATED:20220719T204504Z
LAST-MODIFIED:20220809T004423Z
UID:10000165-1661004000-1661004000@stevejohnsonmusic.com
SUMMARY:Elmer Funk @ Derby Grille
DESCRIPTION:
URL:https://stevejohnsonmusic.com/event/elmer-funk-derby-grille/
LOCATION:Derby Grille\, 110 Bunyan Ave\, Berthoud\, CO\, 80513\, United States
CATEGORIES:group
ATTACH;FMTTYPE=image/jpeg:https://stevejohnsonmusic.com/wp-content/uploads/2022/07/Derby-Grille-20220820-web.jpg
GEO:40.312949;-105.074698
X-APPLE-STRUCTURED-LOCATION;VALUE=URI;X-ADDRESS=Derby Grille 110 Bunyan Ave Berthoud CO 80513 United States;X-APPLE-RADIUS=500;X-TITLE=110 Bunyan Ave:geo:-105.074698,40.312949
END:VEVENT
BEGIN:VEVENT
DTSTART;TZID=America/Denver:20220813T193000
DTEND;TZID=America/Denver:20220813T223000
DTSTAMP:20260420T232620
CREATED:20220719T204042Z
LAST-MODIFIED:20220906T203556Z
UID:10000118-1660419000-1660429800@stevejohnsonmusic.com
SUMMARY:Elmer Funk @ Avogadro's Number
DESCRIPTION:
URL:https://stevejohnsonmusic.com/event/elmer-funk-avogadros-number-2/2022-08-13/
CATEGORIES:group
ATTACH;FMTTYPE=image/jpeg:https://stevejohnsonmusic.com/wp-content/uploads/2022/04/Elmer-Funk-Avos-FB-event.jpg
END:VEVENT
BEGIN:VEVENT
DTSTART;TZID=America/Denver:20220709T193000
DTEND;TZID=America/Denver:20220709T223000
DTSTAMP:20260420T232620
CREATED:20220719T204042Z
LAST-MODIFIED:20220906T203556Z
UID:10000117-1657395000-1657405800@stevejohnsonmusic.com
SUMMARY:Elmer Funk @ Avogadro's Number
DESCRIPTION:
URL:https://stevejohnsonmusic.com/event/elmer-funk-avogadros-number-2/2022-07-09/
CATEGORIES:group
ATTACH;FMTTYPE=image/jpeg:https://stevejohnsonmusic.com/wp-content/uploads/2022/04/Elmer-Funk-Avos-FB-event.jpg
END:VEVENT
BEGIN:VEVENT
DTSTART;TZID=America/Denver:20220611T193000
DTEND;TZID=America/Denver:20220611T223000
DTSTAMP:20260420T232620
CREATED:20220719T204042Z
LAST-MODIFIED:20220906T203556Z
UID:10000116-1654975800-1654986600@stevejohnsonmusic.com
SUMMARY:Elmer Funk @ Avogadro's Number
DESCRIPTION:
URL:https://stevejohnsonmusic.com/event/elmer-funk-avogadros-number-2/2022-06-11/
CATEGORIES:group
ATTACH;FMTTYPE=image/jpeg:https://stevejohnsonmusic.com/wp-content/uploads/2022/04/Elmer-Funk-Avos-FB-event.jpg
END:VEVENT
BEGIN:VEVENT
DTSTART;TZID=America/Denver:20220514T193000
DTEND;TZID=America/Denver:20220514T223000
DTSTAMP:20260420T232620
CREATED:20220719T204042Z
LAST-MODIFIED:20220906T203556Z
UID:10000115-1652556600-1652567400@stevejohnsonmusic.com
SUMMARY:Elmer Funk @ Avogadro's Number
DESCRIPTION:
URL:https://stevejohnsonmusic.com/event/elmer-funk-avogadros-number-2/2022-05-14/
CATEGORIES:group
ATTACH;FMTTYPE=image/jpeg:https://stevejohnsonmusic.com/wp-content/uploads/2022/04/Elmer-Funk-Avos-FB-event.jpg
END:VEVENT
END:VCALENDAR