BEGIN:VCALENDAR
VERSION:2.0
PRODID:-//Steve Johnson Music - ECPv6.15.20//NONSGML v1.0//EN
CALSCALE:GREGORIAN
METHOD:PUBLISH
X-ORIGINAL-URL:https://stevejohnsonmusic.com
X-WR-CALDESC:Events for Steve Johnson Music
REFRESH-INTERVAL;VALUE=DURATION:PT1H
X-Robots-Tag:noindex
X-PUBLISHED-TTL:PT1H
BEGIN:VTIMEZONE
TZID:America/Denver
BEGIN:DAYLIGHT
TZOFFSETFROM:-0700
TZOFFSETTO:-0600
TZNAME:MDT
DTSTART:20210314T090000
END:DAYLIGHT
BEGIN:STANDARD
TZOFFSETFROM:-0600
TZOFFSETTO:-0700
TZNAME:MST
DTSTART:20211107T080000
END:STANDARD
BEGIN:DAYLIGHT
TZOFFSETFROM:-0700
TZOFFSETTO:-0600
TZNAME:MDT
DTSTART:20220313T090000
END:DAYLIGHT
BEGIN:STANDARD
TZOFFSETFROM:-0600
TZOFFSETTO:-0700
TZNAME:MST
DTSTART:20221106T080000
END:STANDARD
BEGIN:DAYLIGHT
TZOFFSETFROM:-0700
TZOFFSETTO:-0600
TZNAME:MDT
DTSTART:20230312T090000
END:DAYLIGHT
BEGIN:STANDARD
TZOFFSETFROM:-0600
TZOFFSETTO:-0700
TZNAME:MST
DTSTART:20231105T080000
END:STANDARD
BEGIN:DAYLIGHT
TZOFFSETFROM:-0700
TZOFFSETTO:-0600
TZNAME:MDT
DTSTART:20240310T090000
END:DAYLIGHT
BEGIN:STANDARD
TZOFFSETFROM:-0600
TZOFFSETTO:-0700
TZNAME:MST
DTSTART:20241103T080000
END:STANDARD
BEGIN:DAYLIGHT
TZOFFSETFROM:-0700
TZOFFSETTO:-0600
TZNAME:MDT
DTSTART:20250309T090000
END:DAYLIGHT
BEGIN:STANDARD
TZOFFSETFROM:-0600
TZOFFSETTO:-0700
TZNAME:MST
DTSTART:20251102T080000
END:STANDARD
BEGIN:DAYLIGHT
TZOFFSETFROM:-0700
TZOFFSETTO:-0600
TZNAME:MDT
DTSTART:20260308T090000
END:DAYLIGHT
BEGIN:STANDARD
TZOFFSETFROM:-0600
TZOFFSETTO:-0700
TZNAME:MST
DTSTART:20261101T080000
END:STANDARD
END:VTIMEZONE
BEGIN:VEVENT
DTSTART;TZID=America/Denver:20251206T190000
DTEND;TZID=America/Denver:20251206T220000
DTSTAMP:20260425T083327
CREATED:20251007T152416Z
LAST-MODIFIED:20251007T154625Z
UID:10001227-1765047600-1765058400@stevejohnsonmusic.com
SUMMARY:Tina Marx & Millionaires @ DCPA
DESCRIPTION:
URL:https://stevejohnsonmusic.com/event/tina-marx-millionaires-dcpa/
LOCATION:(Private Engagement)\, United States
CATEGORIES:group
ORGANIZER;CN="Anthony Walker":MAILTO:perspectiveaudiovisual@gmail.com
END:VEVENT
BEGIN:VEVENT
DTSTART;TZID=America/Denver:20250802T190000
DTEND;TZID=America/Denver:20250802T203000
DTSTAMP:20260425T083327
CREATED:20250725T202532Z
LAST-MODIFIED:20250725T202532Z
UID:10001218-1754161200-1754166600@stevejohnsonmusic.com
SUMMARY:(tentative) Asteria Jazz Collective - Private Party
DESCRIPTION:
URL:https://stevejohnsonmusic.com/event/tentative-asteria-jazz-collective-private-party/
LOCATION:(Private Engagement)\, United States
CATEGORIES:group,jazz
END:VEVENT
BEGIN:VEVENT
DTSTART;TZID=America/Denver:20250628T173000
DTEND;TZID=America/Denver:20250628T203000
DTSTAMP:20260425T083327
CREATED:20250528T203821Z
LAST-MODIFIED:20250611T165653Z
UID:10001207-1751131800-1751142600@stevejohnsonmusic.com
SUMMARY:Ptarmigan CC Jazz Trio (Chuck L)
DESCRIPTION:
URL:https://stevejohnsonmusic.com/event/tent-ptarmigan-jazz-date-chuck-l-6-9-pm/
LOCATION:(Private Engagement)\, United States
CATEGORIES:group,jazz
END:VEVENT
BEGIN:VEVENT
DTSTART;TZID=America/Denver:20250502T173000
DTEND;TZID=America/Denver:20250502T200000
DTSTAMP:20260425T083327
CREATED:20250501T195754Z
LAST-MODIFIED:20250501T195754Z
UID:10001203-1746207000-1746216000@stevejohnsonmusic.com
SUMMARY:Private jazz event\, Loveland
DESCRIPTION:
URL:https://stevejohnsonmusic.com/event/private-jazz-event-loveland/
LOCATION:(Private Engagement)\, United States
CATEGORIES:group,jazz
END:VEVENT
BEGIN:VEVENT
DTSTART;TZID=America/Denver:20240704T180000
DTEND;TZID=America/Denver:20240704T220000
DTSTAMP:20260425T083327
CREATED:20240509T161232Z
LAST-MODIFIED:20240509T161852Z
UID:10001142-1720116000-1720130400@stevejohnsonmusic.com
SUMMARY:(Private Party)
DESCRIPTION:M.O. wedding party
URL:https://stevejohnsonmusic.com/event/private-party-2/
LOCATION:(Private Engagement)\, United States
CATEGORIES:solo
END:VEVENT
BEGIN:VEVENT
DTSTART;TZID=America/Denver:20240601T174500
DTEND;TZID=America/Denver:20240601T191500
DTSTAMP:20260425T083327
CREATED:20240415T184430Z
LAST-MODIFIED:20240415T184430Z
UID:10000929-1717263900-1717269300@stevejohnsonmusic.com
SUMMARY:Private Event @ Terry Bison Ranch
DESCRIPTION:
URL:https://stevejohnsonmusic.com/event/private-event-terry-bison-ranch/
LOCATION:(Private Engagement)\, United States
CATEGORIES:solo
END:VEVENT
BEGIN:VEVENT
DTSTART;TZID=America/Denver:20230826T183000
DTEND;TZID=America/Denver:20230826T213000
DTSTAMP:20260425T083327
CREATED:20230512T164144Z
LAST-MODIFIED:20230512T164144Z
UID:10000398-1693074600-1693085400@stevejohnsonmusic.com
SUMMARY:(Private Engagement)
DESCRIPTION:w/ Peaches Embry – birthday party\, Lone Tree.
URL:https://stevejohnsonmusic.com/event/private-engagement-10/
LOCATION:(Private Engagement)\, United States
CATEGORIES:group
END:VEVENT
BEGIN:VEVENT
DTSTART;TZID=America/Denver:20230812T170000
DTEND;TZID=America/Denver:20230812T200000
DTSTAMP:20260425T083327
CREATED:20230804T210116Z
LAST-MODIFIED:20230804T210140Z
UID:10000727-1691859600-1691870400@stevejohnsonmusic.com
SUMMARY:(Private Engagement)
DESCRIPTION:House party w/ David Wiatrolic.
URL:https://stevejohnsonmusic.com/event/private-party/
LOCATION:(Private Engagement)\, United States
CATEGORIES:group
END:VEVENT
BEGIN:VEVENT
DTSTART;TZID=America/Denver:20230701T180000
DTEND;TZID=America/Denver:20230701T220000
DTSTAMP:20260425T083327
CREATED:20230216T154754Z
LAST-MODIFIED:20230216T154754Z
UID:10000351-1688234400-1688248800@stevejohnsonmusic.com
SUMMARY:(Private Engagement)
DESCRIPTION:
URL:https://stevejohnsonmusic.com/event/private-engagement-8/
LOCATION:(Private Engagement)\, United States
CATEGORIES:solo
END:VEVENT
BEGIN:VEVENT
DTSTART;TZID=America/Denver:20230617T180000
DTEND;TZID=America/Denver:20230617T220000
DTSTAMP:20260425T083327
CREATED:20230609T231654Z
LAST-MODIFIED:20230609T232400Z
UID:10000714-1687024800-1687039200@stevejohnsonmusic.com
SUMMARY:(Private Engagement)
DESCRIPTION:Inouye Wedding Reception\, Greeley\, CO
URL:https://stevejohnsonmusic.com/event/private-engagement-12/
LOCATION:(Private Engagement)\, United States
CATEGORIES:solo
END:VEVENT
BEGIN:VEVENT
DTSTART;TZID=America/Denver:20230616T190000
DTEND;TZID=America/Denver:20230616T203000
DTSTAMP:20260425T083327
CREATED:20230520T192327Z
LAST-MODIFIED:20230520T192327Z
UID:10000403-1686942000-1686947400@stevejohnsonmusic.com
SUMMARY:Kahuna Beach Party @ Pleasant Grove\, UT
DESCRIPTION:
URL:https://stevejohnsonmusic.com/event/kahuna-beach-party-pleasant-grove-ut/
LOCATION:(Private Engagement)\, United States
CATEGORIES:group
END:VEVENT
BEGIN:VEVENT
DTSTART;TZID=America/Denver:20230528T120000
DTEND;TZID=America/Denver:20230528T150000
DTSTAMP:20260425T083327
CREATED:20230519T202540Z
LAST-MODIFIED:20230520T192425Z
UID:10000399-1685275200-1685286000@stevejohnsonmusic.com
SUMMARY:(Custom Shop Band - Private Engagement)
DESCRIPTION:Private party Greenwood Village
URL:https://stevejohnsonmusic.com/event/private-engagement-11/
LOCATION:(Private Engagement)\, United States
CATEGORIES:group
END:VEVENT
BEGIN:VEVENT
DTSTART;TZID=America/Denver:20230422T170000
DTEND;TZID=America/Denver:20230422T190000
DTSTAMP:20260425T083327
CREATED:20230218T182051Z
LAST-MODIFIED:20230218T182404Z
UID:10000353-1682182800-1682190000@stevejohnsonmusic.com
SUMMARY:(Private Engagement)
DESCRIPTION:Jazz quartet @ Embassy Suites
URL:https://stevejohnsonmusic.com/event/private-engagement-9/
LOCATION:(Private Engagement)\, United States
CATEGORIES:jazz
END:VEVENT
BEGIN:VEVENT
DTSTART;TZID=America/Denver:20230216T170000
DTEND;TZID=America/Denver:20230216T183000
DTSTAMP:20260425T083327
CREATED:20230117T233806Z
LAST-MODIFIED:20230117T233908Z
UID:10000338-1676566800-1676572200@stevejohnsonmusic.com
SUMMARY:Private Engagement (Mackenzie Place w/ Ron Holleman quartet)
DESCRIPTION:
URL:https://stevejohnsonmusic.com/event/private-event-mackenzie-place-w-ron-holleman-quartet/
LOCATION:(Private Engagement)\, United States
CATEGORIES:jazz
END:VEVENT
BEGIN:VEVENT
DTSTART;TZID=America/Denver:20221218T180000
DTEND;TZID=America/Denver:20221218T200000
DTSTAMP:20260425T083327
CREATED:20221127T015536Z
LAST-MODIFIED:20221127T015717Z
UID:10000329-1671386400-1671393600@stevejohnsonmusic.com
SUMMARY:(Private Engagement)
DESCRIPTION:Holiday fundraiser w/ Andrew Vogt @ Everyday Joe’s Coffee House.
URL:https://stevejohnsonmusic.com/event/private-engagement-6/
LOCATION:(Private Engagement)\, United States
CATEGORIES:jazz
END:VEVENT
BEGIN:VEVENT
DTSTART;TZID=America/Denver:20221217T173000
DTEND;TZID=America/Denver:20221217T210000
DTSTAMP:20260425T083327
CREATED:20221127T015236Z
LAST-MODIFIED:20221127T015830Z
UID:10000328-1671298200-1671310800@stevejohnsonmusic.com
SUMMARY:(Private Engagement)
DESCRIPTION:Private Christmas party with Peaches Embry & Rhythm Train.
URL:https://stevejohnsonmusic.com/event/private-engagement-5/
LOCATION:(Private Engagement)\, United States
CATEGORIES:group
END:VEVENT
BEGIN:VEVENT
DTSTART;TZID=America/Denver:20221207T190000
DTEND;TZID=America/Denver:20221207T213000
DTSTAMP:20260425T083327
CREATED:20221116T185840Z
LAST-MODIFIED:20221127T015647Z
UID:10000326-1670439600-1670448600@stevejohnsonmusic.com
SUMMARY:(Private Engagement)
DESCRIPTION:Private Christmas party @ Island Grill.
URL:https://stevejohnsonmusic.com/event/private-engagement-4/
LOCATION:(Private Engagement)\, United States
CATEGORIES:solo
END:VEVENT
BEGIN:VEVENT
DTSTART;TZID=America/Denver:20221006T150000
DTEND;TZID=America/Denver:20221006T160000
DTSTAMP:20260425T083327
CREATED:20221007T040855Z
LAST-MODIFIED:20221007T040855Z
UID:10000287-1665068400-1665072000@stevejohnsonmusic.com
SUMMARY:Private Engagement
DESCRIPTION:
URL:https://stevejohnsonmusic.com/event/private-engagement-3/
LOCATION:(Private Engagement)\, United States
CATEGORIES:solo
END:VEVENT
BEGIN:VEVENT
DTSTART;TZID=America/Denver:20221001T180000
DTEND;TZID=America/Denver:20221001T210000
DTSTAMP:20260425T083327
CREATED:20220823T154032Z
LAST-MODIFIED:20220906T205055Z
UID:10000247-1664647200-1664658000@stevejohnsonmusic.com
SUMMARY:Private Engagement
DESCRIPTION:
URL:https://stevejohnsonmusic.com/event/private-engagement-2/
LOCATION:(Private Engagement)\, United States
CATEGORIES:solo
END:VEVENT
BEGIN:VEVENT
DTSTART;TZID=America/Denver:20220827T183000
DTEND;TZID=America/Denver:20220827T213000
DTSTAMP:20260425T083327
CREATED:20220816T195049Z
LAST-MODIFIED:20220906T204903Z
UID:10000184-1661625000-1661635800@stevejohnsonmusic.com
SUMMARY:Private Engagement
DESCRIPTION:
URL:https://stevejohnsonmusic.com/event/private-engagement/
LOCATION:(Private Engagement)\, United States
CATEGORIES:group
END:VEVENT
END:VCALENDAR